BEGIN:VCALENDAR
VERSION:2.0
PRODID:-//Actu.Art - ECPv6.15.13//NONSGML v1.0//EN
CALSCALE:GREGORIAN
METHOD:PUBLISH
X-WR-CALNAME:Actu.Art
X-ORIGINAL-URL:https://actu.art
X-WR-CALDESC:Évènements pour Actu.Art
BEGIN:VTIMEZONE
TZID:Europe/Paris
BEGIN:DAYLIGHT
TZOFFSETFROM:+0100
TZOFFSETTO:+0200
TZNAME:CEST
DTSTART:20250330T010000
END:DAYLIGHT
BEGIN:STANDARD
TZOFFSETFROM:+0200
TZOFFSETTO:+0100
TZNAME:CET
DTSTART:20251026T010000
END:STANDARD
BEGIN:DAYLIGHT
TZOFFSETFROM:+0100
TZOFFSETTO:+0200
TZNAME:CEST
DTSTART:20260329T010000
END:DAYLIGHT
BEGIN:STANDARD
TZOFFSETFROM:+0200
TZOFFSETTO:+0100
TZNAME:CET
DTSTART:20261025T010000
END:STANDARD
BEGIN:DAYLIGHT
TZOFFSETFROM:+0100
TZOFFSETTO:+0200
TZNAME:CEST
DTSTART:20270328T010000
END:DAYLIGHT
BEGIN:STANDARD
TZOFFSETFROM:+0200
TZOFFSETTO:+0100
TZNAME:CET
DTSTART:20271031T010000
END:STANDARD
END:VTIMEZONE
BEGIN:VEVENT
DTSTART;TZID=Europe/Paris:20260505T100000
DTEND;TZID=Europe/Paris:20260515T180000
DTSTAMP:20260423T163841
CREATED:20260416T061819Z
LAST-MODIFIED:20260416T061819Z
UID:143500-1777975200-1778868000@actu.art
SUMMARY:Exposition Regards croisés entre peinture et céramique à Fontaine-de-Vaucluse du 5 au 15 mai 2026
DESCRIPTION:Du 5 au 15 mai 2026\, j’ai le plaisir de porter un projet collectif au cœur de Fontaine-de-Vaucluse\, sur la place de la Colonne. En tant qu’organisatrice et directrice artistique\, j’ai souhaité instaurer un dialogue sensible entre mes paysages et le travail de trois céramistes de talent : Pascale de Boni\, Cathy Ambroggi et Sylvie Morel. \nCette exposition s’installe dans la simplicité d’un lieu ouvert sur la vie du village\, au pied des falaises et de la source emblématique. C’est une invitation à la rencontre\, entre la fluidité de mes horizons et la présence tactile de la terre. \nPour ceux qui souhaitent prolonger la visite\, je participe simultanément à l’exposition collective de la Galerie Acmaa (L’Isle-sur-la-Sorgue). En tant qu’artiste résidente à l’année\, j’y présente deux toiles dans le cadre de la rotation bimensuelle de la galerie\, aux côtés des autres résidents et des artistes invités de la session.\nFlorence Trottoli
URL:https://actu.art/event/exposition-regards-croises-entre-peinture-et-ceramique-a-fontaine-de-vaucluse-du-5-au-15-mai-2026/
LOCATION:Fontaine de Vaucluse\, 1 place de la Colonne\, Fontaine de Vaucluse\, 84800\, France
CATEGORIES:Expositions
ATTACH;FMTTYPE=image/jpeg:https://actu.art/wp-content/uploads/2026/04/Affiches.jpg
END:VEVENT
END:VCALENDAR