BEGIN:VCALENDAR
VERSION:2.0
PRODID:-//Actu.Art - ECPv6.15.13//NONSGML v1.0//EN
CALSCALE:GREGORIAN
METHOD:PUBLISH
X-WR-CALNAME:Actu.Art
X-ORIGINAL-URL:https://actu.art
X-WR-CALDESC:Évènements pour Actu.Art
BEGIN:VTIMEZONE
TZID:Europe/Paris
BEGIN:DAYLIGHT
TZOFFSETFROM:+0100
TZOFFSETTO:+0200
TZNAME:CEST
DTSTART:20240331T010000
END:DAYLIGHT
BEGIN:STANDARD
TZOFFSETFROM:+0200
TZOFFSETTO:+0100
TZNAME:CET
DTSTART:20241027T010000
END:STANDARD
BEGIN:DAYLIGHT
TZOFFSETFROM:+0100
TZOFFSETTO:+0200
TZNAME:CEST
DTSTART:20250330T010000
END:DAYLIGHT
BEGIN:STANDARD
TZOFFSETFROM:+0200
TZOFFSETTO:+0100
TZNAME:CET
DTSTART:20251026T010000
END:STANDARD
BEGIN:DAYLIGHT
TZOFFSETFROM:+0100
TZOFFSETTO:+0200
TZNAME:CEST
DTSTART:20260329T010000
END:DAYLIGHT
BEGIN:STANDARD
TZOFFSETFROM:+0200
TZOFFSETTO:+0100
TZNAME:CET
DTSTART:20261025T010000
END:STANDARD
END:VTIMEZONE
BEGIN:VEVENT
DTSTART;VALUE=DATE:20250510
DTEND;VALUE=DATE:20250609
DTSTAMP:20260420T155919
CREATED:20250530T215057Z
LAST-MODIFIED:20250530T215057Z
UID:118278-1746835200-1749427199@actu.art
SUMMARY:Exposition Réanim’Art
DESCRIPTION:Exposition permanente de la collection privée de Monsieur Guyomarc’h : art brut \, peinture contemporaine \, verrerie et expositions temporaires d’artistes.\nExposition temporaire : Du 10 mai au 8 juin : YAGO\nOuvert les samedis et dimanches de 13h30 à 18h30  Ou  visite sur RDV  au 06 63 53 61 77
URL:https://actu.art/event/exposition-reanimart-2/
LOCATION:Espace Réanim’Art\, 3 rue du Boulouard\, Rosporden\, Finistère\, 29140\, France
CATEGORIES:Expositions
ATTACH;FMTTYPE=image/jpeg:https://actu.art/wp-content/uploads/2025/05/Exposition_Reanim_Art.jpg
GEO:47.9587801;-3.8308722
X-APPLE-STRUCTURED-LOCATION;VALUE=URI;X-ADDRESS=Espace Réanim’Art 3 rue du Boulouard Rosporden Finistère 29140 France;X-APPLE-RADIUS=500;X-TITLE=3 rue du Boulouard:geo:-3.8308722,47.9587801
END:VEVENT
END:VCALENDAR