BEGIN:VCALENDAR
VERSION:2.0
PRODID:-//Actu.Art - ECPv6.15.13//NONSGML v1.0//EN
CALSCALE:GREGORIAN
METHOD:PUBLISH
X-WR-CALNAME:Actu.Art
X-ORIGINAL-URL:https://actu.art
X-WR-CALDESC:Évènements pour Actu.Art
BEGIN:VTIMEZONE
TZID:Europe/Paris
BEGIN:DAYLIGHT
TZOFFSETFROM:+0100
TZOFFSETTO:+0200
TZNAME:CEST
DTSTART:20240331T010000
END:DAYLIGHT
BEGIN:STANDARD
TZOFFSETFROM:+0200
TZOFFSETTO:+0100
TZNAME:CET
DTSTART:20241027T010000
END:STANDARD
BEGIN:DAYLIGHT
TZOFFSETFROM:+0100
TZOFFSETTO:+0200
TZNAME:CEST
DTSTART:20250330T010000
END:DAYLIGHT
BEGIN:STANDARD
TZOFFSETFROM:+0200
TZOFFSETTO:+0100
TZNAME:CET
DTSTART:20251026T010000
END:STANDARD
BEGIN:DAYLIGHT
TZOFFSETFROM:+0100
TZOFFSETTO:+0200
TZNAME:CEST
DTSTART:20260329T010000
END:DAYLIGHT
BEGIN:STANDARD
TZOFFSETFROM:+0200
TZOFFSETTO:+0100
TZNAME:CET
DTSTART:20261025T010000
END:STANDARD
END:VTIMEZONE
BEGIN:VEVENT
DTSTART;TZID=Europe/Paris:20250920T140000
DTEND;TZID=Europe/Paris:20251121T180000
DTSTAMP:20260419T180454
CREATED:20250922T184107Z
LAST-MODIFIED:20250922T184107Z
UID:129527-1758376800-1763748000@actu.art
SUMMARY:Exposition - Quotidien - Emanata - Les Temps Changent...
DESCRIPTION:Projet de l’association « Plus vite » coproduite par le Centre national des arts plastiques et l’Association de Développement et de Recherches sur les Artothèques. \nCette exposition rassemble 36 œuvres d’artistes confirmés\, mais aussi de plus jeunes artistes. Ces œuvres témoignent toutes de la singularité de la création contemporaine. Elles sont le reflet des esthétiques actuelles qui traduisent une diversité de regards et d’interprétations de la société et du monde qui nous entourent. \nLa commande Quotidien a proposé à des plasticiens de toutes générations de porter un regard à la fois analytique et poétique sur le monde contemporain et sur ses réalités immédiates.\nEmanata souligne les liens qu’entretient la bande dessinée avec les arts visuels dans la création contemporaine. Les artistes retenus affirment tous leur appartenance à l’imaginaire et aux codes de la bande dessinée et de l’image graphique.\nPour la commande Les temps changent…\, les artistes étaient invités à répondre aux questions suivantes : quelle est leur vision du présent ? De quoi celle-ci s’inspire-t-elle ? Comment détermine-t-elle leur représentation de l’avenir ?
URL:https://actu.art/event/exposition-quotidien-emanata-les-temps-changent/
LOCATION:Galerie Poirel\, 3 rue Victor Poirel\, Nancy\, Meurthe-et-Moselle\, 54000\, France
CATEGORIES:Expositions Galeries
ATTACH;FMTTYPE=image/jpeg:https://actu.art/wp-content/uploads/2025/09/Exposition_Quotidien_Emanata_Les_Temps_Changent_.jpg
GEO:48.6902978;6.1773338
X-APPLE-STRUCTURED-LOCATION;VALUE=URI;X-ADDRESS=Galerie Poirel 3 rue Victor Poirel Nancy Meurthe-et-Moselle 54000 France;X-APPLE-RADIUS=500;X-TITLE=3 rue Victor Poirel:geo:6.1773338,48.6902978
END:VEVENT
END:VCALENDAR