BEGIN:VCALENDAR
VERSION:2.0
PRODID:-//Actu.Art - ECPv6.15.13//NONSGML v1.0//EN
CALSCALE:GREGORIAN
METHOD:PUBLISH
X-WR-CALNAME:Actu.Art
X-ORIGINAL-URL:https://actu.art
X-WR-CALDESC:Évènements pour Actu.Art
BEGIN:VTIMEZONE
TZID:Europe/Paris
BEGIN:DAYLIGHT
TZOFFSETFROM:+0100
TZOFFSETTO:+0200
TZNAME:CEST
DTSTART:20240331T010000
END:DAYLIGHT
BEGIN:STANDARD
TZOFFSETFROM:+0200
TZOFFSETTO:+0100
TZNAME:CET
DTSTART:20241027T010000
END:STANDARD
BEGIN:DAYLIGHT
TZOFFSETFROM:+0100
TZOFFSETTO:+0200
TZNAME:CEST
DTSTART:20250330T010000
END:DAYLIGHT
BEGIN:STANDARD
TZOFFSETFROM:+0200
TZOFFSETTO:+0100
TZNAME:CET
DTSTART:20251026T010000
END:STANDARD
BEGIN:DAYLIGHT
TZOFFSETFROM:+0100
TZOFFSETTO:+0200
TZNAME:CEST
DTSTART:20260329T010000
END:DAYLIGHT
BEGIN:STANDARD
TZOFFSETFROM:+0200
TZOFFSETTO:+0100
TZNAME:CET
DTSTART:20261025T010000
END:STANDARD
END:VTIMEZONE
BEGIN:VEVENT
DTSTART;TZID=Europe/Paris:20250504T090000
DTEND;TZID=Europe/Paris:20250504T180000
DTSTAMP:20260422T231243
CREATED:20250328T141357Z
LAST-MODIFIED:20250328T141357Z
UID:112887-1746349200-1746381600@actu.art
SUMMARY:Exposition - Philippe Burnel à Rodemack
DESCRIPTION:Pendant le marché aux fleurs\, le Club de la Maison des Baillis accueillera les œuvres de Philippe Burnel\, artiste sculpteur aux thèmes engagés.\nCette exposition se fait en collaboration avec Le Dahu à cinq pattes\, Galerie d’art mal élevée.
URL:https://actu.art/event/exposition-philippe-burnel-a-rodemack/
LOCATION:Club de la Maison des Baillis\, 46 Place des Baillis\, Rodemack\, Moselle\, 57570
CATEGORIES:Expositions
ATTACH;FMTTYPE=image/jpeg:https://actu.art/wp-content/uploads/2025/03/Exposition_Philippe_Burnel_a_Rodemack.jpg
END:VEVENT
END:VCALENDAR