BEGIN:VCALENDAR
VERSION:2.0
PRODID:-//Actu.Art - ECPv6.15.13//NONSGML v1.0//EN
CALSCALE:GREGORIAN
METHOD:PUBLISH
X-WR-CALNAME:Actu.Art
X-ORIGINAL-URL:https://actu.art
X-WR-CALDESC:Évènements pour Actu.Art
BEGIN:VTIMEZONE
TZID:Europe/Paris
BEGIN:DAYLIGHT
TZOFFSETFROM:+0100
TZOFFSETTO:+0200
TZNAME:CEST
DTSTART:20240331T010000
END:DAYLIGHT
BEGIN:STANDARD
TZOFFSETFROM:+0200
TZOFFSETTO:+0100
TZNAME:CET
DTSTART:20241027T010000
END:STANDARD
BEGIN:DAYLIGHT
TZOFFSETFROM:+0100
TZOFFSETTO:+0200
TZNAME:CEST
DTSTART:20250330T010000
END:DAYLIGHT
BEGIN:STANDARD
TZOFFSETFROM:+0200
TZOFFSETTO:+0100
TZNAME:CET
DTSTART:20251026T010000
END:STANDARD
BEGIN:DAYLIGHT
TZOFFSETFROM:+0100
TZOFFSETTO:+0200
TZNAME:CEST
DTSTART:20260329T010000
END:DAYLIGHT
BEGIN:STANDARD
TZOFFSETFROM:+0200
TZOFFSETTO:+0100
TZNAME:CET
DTSTART:20261025T010000
END:STANDARD
END:VTIMEZONE
BEGIN:VEVENT
DTSTART;TZID=Europe/Paris:20250704T100000
DTEND;TZID=Europe/Paris:20250806T180000
DTSTAMP:20260424T075448
CREATED:20250714T222133Z
LAST-MODIFIED:20250714T222133Z
UID:124060-1751623200-1754503200@actu.art
SUMMARY:Exposition "Peintures sur le Pays d'Arles"
DESCRIPTION:Le Mas Baracan vous présente : Peintures sur le Pays d’Arles
URL:https://actu.art/event/exposition-peintures-sur-le-pays-darles/
LOCATION:Mas Baracan\, Route de Coste Basse\, Arles\, Bouches-du-Rhône\, 13200\, France
CATEGORIES:Expositions
ATTACH;FMTTYPE=image/jpeg:https://actu.art/wp-content/uploads/2025/07/Exposition_Peintures_sur_le_Pays_d_Arles_.jpg
GEO:43.6646772;4.6568483
X-APPLE-STRUCTURED-LOCATION;VALUE=URI;X-ADDRESS=Mas Baracan Route de Coste Basse Arles Bouches-du-Rhône 13200 France;X-APPLE-RADIUS=500;X-TITLE=Route de Coste Basse:geo:4.6568483,43.6646772
END:VEVENT
END:VCALENDAR