BEGIN:VCALENDAR
VERSION:2.0
PRODID:-//Actu.Art - ECPv6.15.13//NONSGML v1.0//EN
CALSCALE:GREGORIAN
METHOD:PUBLISH
X-WR-CALNAME:Actu.Art
X-ORIGINAL-URL:https://actu.art
X-WR-CALDESC:Évènements pour Actu.Art
BEGIN:VTIMEZONE
TZID:Europe/Paris
BEGIN:DAYLIGHT
TZOFFSETFROM:+0100
TZOFFSETTO:+0200
TZNAME:CEST
DTSTART:20240331T010000
END:DAYLIGHT
BEGIN:STANDARD
TZOFFSETFROM:+0200
TZOFFSETTO:+0100
TZNAME:CET
DTSTART:20241027T010000
END:STANDARD
BEGIN:DAYLIGHT
TZOFFSETFROM:+0100
TZOFFSETTO:+0200
TZNAME:CEST
DTSTART:20250330T010000
END:DAYLIGHT
BEGIN:STANDARD
TZOFFSETFROM:+0200
TZOFFSETTO:+0100
TZNAME:CET
DTSTART:20251026T010000
END:STANDARD
BEGIN:DAYLIGHT
TZOFFSETFROM:+0100
TZOFFSETTO:+0200
TZNAME:CEST
DTSTART:20260329T010000
END:DAYLIGHT
BEGIN:STANDARD
TZOFFSETFROM:+0200
TZOFFSETTO:+0100
TZNAME:CET
DTSTART:20261025T010000
END:STANDARD
END:VTIMEZONE
BEGIN:VEVENT
DTSTART;TZID=Europe/Paris:20250403T093000
DTEND;TZID=Europe/Paris:20250505T173000
DTSTAMP:20260422T212858
CREATED:20250416T181544Z
LAST-MODIFIED:20250416T181544Z
UID:114883-1743672600-1746466200@actu.art
SUMMARY:Exposition Peintures Numériques
DESCRIPTION:Après plus de vingt ans de pratique\, l’artiste résume son approche ainsi : « J’utilise la peinture numérique pour faire de la peinture traditionnelle ».\nEntrée libre pendant les horaires d’ouverture du Club.
URL:https://actu.art/event/exposition-peintures-numeriques/
LOCATION:Club Péguy\, 32 bis avenue Fernand Lefebvre\, Poissy\, Yvelines\, 78300\, France
CATEGORIES:Expositions
ATTACH;FMTTYPE=image/jpeg:https://actu.art/wp-content/uploads/2025/04/Exposition_Peintures_Numeriques.jpg
GEO:48.9256164;2.0494287
X-APPLE-STRUCTURED-LOCATION;VALUE=URI;X-ADDRESS=Club Péguy 32 bis avenue Fernand Lefebvre Poissy Yvelines 78300 France;X-APPLE-RADIUS=500;X-TITLE=32 bis avenue Fernand Lefebvre:geo:2.0494287,48.9256164
END:VEVENT
END:VCALENDAR