BEGIN:VCALENDAR
VERSION:2.0
PRODID:-//Actu.Art - ECPv6.15.13//NONSGML v1.0//EN
CALSCALE:GREGORIAN
METHOD:PUBLISH
X-WR-CALNAME:Actu.Art
X-ORIGINAL-URL:https://actu.art
X-WR-CALDESC:Évènements pour Actu.Art
BEGIN:VTIMEZONE
TZID:Europe/Paris
BEGIN:DAYLIGHT
TZOFFSETFROM:+0100
TZOFFSETTO:+0200
TZNAME:CEST
DTSTART:20240331T010000
END:DAYLIGHT
BEGIN:STANDARD
TZOFFSETFROM:+0200
TZOFFSETTO:+0100
TZNAME:CET
DTSTART:20241027T010000
END:STANDARD
BEGIN:DAYLIGHT
TZOFFSETFROM:+0100
TZOFFSETTO:+0200
TZNAME:CEST
DTSTART:20250330T010000
END:DAYLIGHT
BEGIN:STANDARD
TZOFFSETFROM:+0200
TZOFFSETTO:+0100
TZNAME:CET
DTSTART:20251026T010000
END:STANDARD
BEGIN:DAYLIGHT
TZOFFSETFROM:+0100
TZOFFSETTO:+0200
TZNAME:CEST
DTSTART:20260329T010000
END:DAYLIGHT
BEGIN:STANDARD
TZOFFSETFROM:+0200
TZOFFSETTO:+0100
TZNAME:CET
DTSTART:20261025T010000
END:STANDARD
END:VTIMEZONE
BEGIN:VEVENT
DTSTART;TZID=Europe/Paris:20250502T100000
DTEND;TZID=Europe/Paris:20250531T190000
DTSTAMP:20260420T160057
CREATED:20250421T174205Z
LAST-MODIFIED:20250421T182630Z
UID:115280-1746180000-1748718000@actu.art
SUMMARY:Exposition peintures Emmanuel DI CEGLIE
DESCRIPTION:Venez découvrir l’univers coloré de l’artiste peintre granvillais Emmanuel DI CEGLIE au sein de l’Atelier MOSALI. \nExposition visible aux horaires d’ouverture du magasin.
URL:https://actu.art/event/exposition-peintures-emmanuel-di-ceglie/
LOCATION:Atelier MOSALI\, 6 Rue Paul Poirier\, Granville\, 50400
CATEGORIES:Événements Artistiques locaux
ATTACH;FMTTYPE=image/jpeg:https://actu.art/wp-content/uploads/2025/04/Exposition_peintures_Emmanuel_DI_CEGLIE.jpg
END:VEVENT
END:VCALENDAR