BEGIN:VCALENDAR
VERSION:2.0
PRODID:-//Actu.Art - ECPv6.15.13//NONSGML v1.0//EN
CALSCALE:GREGORIAN
METHOD:PUBLISH
X-WR-CALNAME:Actu.Art
X-ORIGINAL-URL:https://actu.art
X-WR-CALDESC:Évènements pour Actu.Art
BEGIN:VTIMEZONE
TZID:Europe/Paris
BEGIN:DAYLIGHT
TZOFFSETFROM:+0100
TZOFFSETTO:+0200
TZNAME:CEST
DTSTART:20240331T010000
END:DAYLIGHT
BEGIN:STANDARD
TZOFFSETFROM:+0200
TZOFFSETTO:+0100
TZNAME:CET
DTSTART:20241027T010000
END:STANDARD
BEGIN:DAYLIGHT
TZOFFSETFROM:+0100
TZOFFSETTO:+0200
TZNAME:CEST
DTSTART:20250330T010000
END:DAYLIGHT
BEGIN:STANDARD
TZOFFSETFROM:+0200
TZOFFSETTO:+0100
TZNAME:CET
DTSTART:20251026T010000
END:STANDARD
BEGIN:DAYLIGHT
TZOFFSETFROM:+0100
TZOFFSETTO:+0200
TZNAME:CEST
DTSTART:20260329T010000
END:DAYLIGHT
BEGIN:STANDARD
TZOFFSETFROM:+0200
TZOFFSETTO:+0100
TZNAME:CET
DTSTART:20261025T010000
END:STANDARD
END:VTIMEZONE
BEGIN:VEVENT
DTSTART;VALUE=DATE:20250902
DTEND;VALUE=DATE:20251005
DTSTAMP:20260424T010715
CREATED:20250915T115447Z
LAST-MODIFIED:20250915T115447Z
UID:127088-1756771200-1759622399@actu.art
SUMMARY:Exposition – Peintures de Véronique Lesage et sculptures de Didier Dantras
DESCRIPTION:Exposition de peintures de Véronique Lesage et de sculptures de Didier Dantras au Bureau d’Information Touristique de Brou.
URL:https://actu.art/event/exposition-peintures-de-veronique-lesage-et-sculptures-de-didier-dantras/
LOCATION:Chapelle Saint-Marc de Brou\, Rue de la Chevalerie\, Brou\, Eure-et-Loir\, 28160\, France
CATEGORIES:Expositions
GEO:48.2104036;1.1663283
X-APPLE-STRUCTURED-LOCATION;VALUE=URI;X-ADDRESS=Chapelle Saint-Marc de Brou Rue de la Chevalerie Brou Eure-et-Loir 28160 France;X-APPLE-RADIUS=500;X-TITLE=Rue de la Chevalerie:geo:1.1663283,48.2104036
END:VEVENT
END:VCALENDAR