BEGIN:VCALENDAR
VERSION:2.0
PRODID:-//Actu.Art - ECPv6.15.13//NONSGML v1.0//EN
CALSCALE:GREGORIAN
METHOD:PUBLISH
X-WR-CALNAME:Actu.Art
X-ORIGINAL-URL:https://actu.art
X-WR-CALDESC:Évènements pour Actu.Art
BEGIN:VTIMEZONE
TZID:Europe/Paris
BEGIN:DAYLIGHT
TZOFFSETFROM:+0100
TZOFFSETTO:+0200
TZNAME:CEST
DTSTART:20240331T010000
END:DAYLIGHT
BEGIN:STANDARD
TZOFFSETFROM:+0200
TZOFFSETTO:+0100
TZNAME:CET
DTSTART:20241027T010000
END:STANDARD
BEGIN:DAYLIGHT
TZOFFSETFROM:+0100
TZOFFSETTO:+0200
TZNAME:CEST
DTSTART:20250330T010000
END:DAYLIGHT
BEGIN:STANDARD
TZOFFSETFROM:+0200
TZOFFSETTO:+0100
TZNAME:CET
DTSTART:20251026T010000
END:STANDARD
BEGIN:DAYLIGHT
TZOFFSETFROM:+0100
TZOFFSETTO:+0200
TZNAME:CEST
DTSTART:20260329T010000
END:DAYLIGHT
BEGIN:STANDARD
TZOFFSETFROM:+0200
TZOFFSETTO:+0100
TZNAME:CET
DTSTART:20261025T010000
END:STANDARD
END:VTIMEZONE
BEGIN:VEVENT
DTSTART;VALUE=DATE:20250614
DTEND;VALUE=DATE:20250707
DTSTAMP:20260426T030328
CREATED:20250706T203854Z
LAST-MODIFIED:20250706T203854Z
UID:121824-1749859200-1751846399@actu.art
SUMMARY:Exposition peinture – Jean-Pierre Dausset
DESCRIPTION:Jean-Pierre DAUSSET est né en 1948 à Quimerc’h ( Finistère )\, il est diplômé des Beaux-Arts de Quimper en 1965\, puis de l’Ecole Nationale Supérieure des Arts Décoratifs à Paris. Après des années de peinture traditionnelle\, Jean-Pierre Dausset\, toujours en recherche\, a découvert la tablette graphique en 2008.\nCette rencontre s’est imposée à lui comme une évidence. Il a su transposer l’acquis « peinture » au numérique par le même processus : sous-couche\, couche\, effacement\, transparence… avec des possibilités incomparables : réglages chromatiques\, choix des surfaces et des formats.\n« Mon travail repose sur des séries de dessins d’après des captures d’écran\, des photographies de presse ; les choix sont arbitraires dictés par le ressenti pour produire une image qui travaille. La peinture vient avec un effet de retard indispensable\, elle est vue après-coup\, pour rectifier voire forcer le trait. Cela devient un lieu de conjonctures\, de paris\, de hasards\, de déconstructions\, d’hypothèses qui doivent continuellement être reposées. Les connexions historiques-numériques m’intéressent pour fourailler dans la tradition de la peinture et dans les arcanes des logiciels.»\nC’est Ainsi qu’une femme de couleur bleue s’invite chez Pisanello et que des Mangas rencontrent Pieter Brueghel. Des rapprochements qui offrent des possibilités picturales singulières tout en s’agrégeant l’histoire de l’Art sans toile\, ni peinture mais avec des pinceaux chargés de pixels.\nCette année l’exposition occupe les 2 espaces  de la Galerie :\nUn espace où les personnages de la renaissance conversent avec le surréalisme et un espace où les indiens et les cowboys s’échangent des fleurs de Brueghel ou Botticelli avec humour et utopie d’une communauté apaisée.
URL:https://actu.art/event/exposition-peinture-jean-pierre-dausset/
LOCATION:Galerie Rouge\, 15 Rue Victor Hugo\, Pont-l'Abbé\, Finistère\, 29120\, France
CATEGORIES:Expositions Galeries
ATTACH;FMTTYPE=image/jpeg:https://actu.art/wp-content/uploads/2025/06/Exposition_peinture_Jean_Pierre_Dausset.jpg
GEO:47.8687451;-4.2223758
X-APPLE-STRUCTURED-LOCATION;VALUE=URI;X-ADDRESS=Galerie Rouge 15 Rue Victor Hugo Pont-l'Abbé Finistère 29120 France;X-APPLE-RADIUS=500;X-TITLE=15 Rue Victor Hugo:geo:-4.2223758,47.8687451
END:VEVENT
END:VCALENDAR