BEGIN:VCALENDAR
VERSION:2.0
PRODID:-//Actu.Art - ECPv6.15.13//NONSGML v1.0//EN
CALSCALE:GREGORIAN
METHOD:PUBLISH
X-WR-CALNAME:Actu.Art
X-ORIGINAL-URL:https://actu.art
X-WR-CALDESC:Évènements pour Actu.Art
BEGIN:VTIMEZONE
TZID:Europe/Paris
BEGIN:DAYLIGHT
TZOFFSETFROM:+0100
TZOFFSETTO:+0200
TZNAME:CEST
DTSTART:20240331T010000
END:DAYLIGHT
BEGIN:STANDARD
TZOFFSETFROM:+0200
TZOFFSETTO:+0100
TZNAME:CET
DTSTART:20241027T010000
END:STANDARD
BEGIN:DAYLIGHT
TZOFFSETFROM:+0100
TZOFFSETTO:+0200
TZNAME:CEST
DTSTART:20250330T010000
END:DAYLIGHT
BEGIN:STANDARD
TZOFFSETFROM:+0200
TZOFFSETTO:+0100
TZNAME:CET
DTSTART:20251026T010000
END:STANDARD
BEGIN:DAYLIGHT
TZOFFSETFROM:+0100
TZOFFSETTO:+0200
TZNAME:CEST
DTSTART:20260329T010000
END:DAYLIGHT
BEGIN:STANDARD
TZOFFSETFROM:+0200
TZOFFSETTO:+0100
TZNAME:CET
DTSTART:20261025T010000
END:STANDARD
END:VTIMEZONE
BEGIN:VEVENT
DTSTART;TZID=Europe/Paris:20250530T150000
DTEND;TZID=Europe/Paris:20250619T190000
DTSTAMP:20260426T044519
CREATED:20250526T203227Z
LAST-MODIFIED:20250526T203227Z
UID:118865-1748617200-1750359600@actu.art
SUMMARY:Exposition peinture
DESCRIPTION:L’artiste Véronique Lechâble  expose ses œuvres : acrylique\, graphite\, pastel
URL:https://actu.art/event/exposition-peinture-5/
LOCATION:Salle Octave Lafay\, 3 rue François Vacher\, Arfeuilles\, Allier\, 03120
CATEGORIES:Expositions
GEO:46.1559533;3.7282048
X-APPLE-STRUCTURED-LOCATION;VALUE=URI;X-ADDRESS=Salle Octave Lafay 3 rue François Vacher Arfeuilles Allier 03120;X-APPLE-RADIUS=500;X-TITLE=3 rue François Vacher:geo:3.7282048,46.1559533
END:VEVENT
END:VCALENDAR