BEGIN:VCALENDAR
VERSION:2.0
PRODID:-//Actu.Art - ECPv6.15.13//NONSGML v1.0//EN
CALSCALE:GREGORIAN
METHOD:PUBLISH
X-WR-CALNAME:Actu.Art
X-ORIGINAL-URL:https://actu.art
X-WR-CALDESC:Évènements pour Actu.Art
BEGIN:VTIMEZONE
TZID:Europe/Paris
BEGIN:DAYLIGHT
TZOFFSETFROM:+0100
TZOFFSETTO:+0200
TZNAME:CEST
DTSTART:20230326T010000
END:DAYLIGHT
BEGIN:STANDARD
TZOFFSETFROM:+0200
TZOFFSETTO:+0100
TZNAME:CET
DTSTART:20231029T010000
END:STANDARD
BEGIN:DAYLIGHT
TZOFFSETFROM:+0100
TZOFFSETTO:+0200
TZNAME:CEST
DTSTART:20240331T010000
END:DAYLIGHT
BEGIN:STANDARD
TZOFFSETFROM:+0200
TZOFFSETTO:+0100
TZNAME:CET
DTSTART:20241027T010000
END:STANDARD
BEGIN:DAYLIGHT
TZOFFSETFROM:+0100
TZOFFSETTO:+0200
TZNAME:CEST
DTSTART:20250330T010000
END:DAYLIGHT
BEGIN:STANDARD
TZOFFSETFROM:+0200
TZOFFSETTO:+0100
TZNAME:CET
DTSTART:20251026T010000
END:STANDARD
BEGIN:DAYLIGHT
TZOFFSETFROM:+0100
TZOFFSETTO:+0200
TZNAME:CEST
DTSTART:20260329T010000
END:DAYLIGHT
BEGIN:STANDARD
TZOFFSETFROM:+0200
TZOFFSETTO:+0100
TZNAME:CET
DTSTART:20261025T010000
END:STANDARD
END:VTIMEZONE
BEGIN:VEVENT
DTSTART;VALUE=DATE:20241201
DTEND;VALUE=DATE:20250103
DTSTAMP:20260422T235706
CREATED:20241218T132008Z
LAST-MODIFIED:20241224T154024Z
UID:107039-1733011200-1735862399@actu.art
SUMMARY:Exposition “Paysages/Passages” Zoe B.Tapal
DESCRIPTION:Exposition de dessins par Zoé Tapal à l’Office de Tourisme de Loudenvielle.\nEntrée libre et gratuite sur les horaires d’ouverture de l’Office.
URL:https://actu.art/event/exposition-paysages-passages-zoe-b-tapal-2/
LOCATION:Office de Tourisme de Loudenvielle\, Loudenvielle\, Hautes-Pyrénées\, 65510\, France
CATEGORIES:Expositions
ATTACH;FMTTYPE=image/webp:https://actu.art/wp-content/uploads/2024/12/Exposition_Paysages_Passages_Zoe_B_Tapal.webp
END:VEVENT
END:VCALENDAR