BEGIN:VCALENDAR
VERSION:2.0
PRODID:-//Actu.Art - ECPv6.15.13//NONSGML v1.0//EN
CALSCALE:GREGORIAN
METHOD:PUBLISH
X-WR-CALNAME:Actu.Art
X-ORIGINAL-URL:https://actu.art
X-WR-CALDESC:Évènements pour Actu.Art
BEGIN:VTIMEZONE
TZID:Europe/Paris
BEGIN:DAYLIGHT
TZOFFSETFROM:+0100
TZOFFSETTO:+0200
TZNAME:CEST
DTSTART:20250330T010000
END:DAYLIGHT
BEGIN:STANDARD
TZOFFSETFROM:+0200
TZOFFSETTO:+0100
TZNAME:CET
DTSTART:20251026T010000
END:STANDARD
BEGIN:DAYLIGHT
TZOFFSETFROM:+0100
TZOFFSETTO:+0200
TZNAME:CEST
DTSTART:20260329T010000
END:DAYLIGHT
BEGIN:STANDARD
TZOFFSETFROM:+0200
TZOFFSETTO:+0100
TZNAME:CET
DTSTART:20261025T010000
END:STANDARD
BEGIN:DAYLIGHT
TZOFFSETFROM:+0100
TZOFFSETTO:+0200
TZNAME:CEST
DTSTART:20270328T010000
END:DAYLIGHT
BEGIN:STANDARD
TZOFFSETFROM:+0200
TZOFFSETTO:+0100
TZNAME:CET
DTSTART:20271031T010000
END:STANDARD
END:VTIMEZONE
BEGIN:VEVENT
DTSTART;TZID=Europe/Paris:20260421T100000
DTEND;TZID=Europe/Paris:20260504T190000
DTSTAMP:20260422T154830
CREATED:20260414T192737Z
LAST-MODIFIED:20260414T192737Z
UID:143214-1776765600-1777921200@actu.art
SUMMARY:Exposition - Paysages 4
DESCRIPTION:Au travers des œuvres de 4 artistes\, cette exposition propose une exploration du paysage comme une expérience en constante transformation par le biais du dessin\, de la peinture et de la photographie.
URL:https://actu.art/event/exposition-paysages-4/
LOCATION:Galerie Louis Simon\, Cours de l'Europe\, Royan\, Charente-Maritime\, 17200\, France
CATEGORIES:Expositions Galeries
ATTACH;FMTTYPE=image/jpeg:https://actu.art/wp-content/uploads/2026/04/Exposition_Paysages_4.jpg
GEO:45.6249096;-1.0214635
X-APPLE-STRUCTURED-LOCATION;VALUE=URI;X-ADDRESS=Galerie Louis Simon Cours de l'Europe Royan Charente-Maritime 17200 France;X-APPLE-RADIUS=500;X-TITLE=Cours de l'Europe:geo:-1.0214635,45.6249096
END:VEVENT
END:VCALENDAR