BEGIN:VCALENDAR
VERSION:2.0
PRODID:-//Actu.Art - ECPv6.15.13//NONSGML v1.0//EN
CALSCALE:GREGORIAN
METHOD:PUBLISH
X-WR-CALNAME:Actu.Art
X-ORIGINAL-URL:https://actu.art
X-WR-CALDESC:Évènements pour Actu.Art
BEGIN:VTIMEZONE
TZID:Europe/Paris
BEGIN:DAYLIGHT
TZOFFSETFROM:+0100
TZOFFSETTO:+0200
TZNAME:CEST
DTSTART:20250330T010000
END:DAYLIGHT
BEGIN:STANDARD
TZOFFSETFROM:+0200
TZOFFSETTO:+0100
TZNAME:CET
DTSTART:20251026T010000
END:STANDARD
BEGIN:DAYLIGHT
TZOFFSETFROM:+0100
TZOFFSETTO:+0200
TZNAME:CEST
DTSTART:20260329T010000
END:DAYLIGHT
BEGIN:STANDARD
TZOFFSETFROM:+0200
TZOFFSETTO:+0100
TZNAME:CET
DTSTART:20261025T010000
END:STANDARD
BEGIN:DAYLIGHT
TZOFFSETFROM:+0100
TZOFFSETTO:+0200
TZNAME:CEST
DTSTART:20270328T010000
END:DAYLIGHT
BEGIN:STANDARD
TZOFFSETFROM:+0200
TZOFFSETTO:+0100
TZNAME:CET
DTSTART:20271031T010000
END:STANDARD
END:VTIMEZONE
BEGIN:VEVENT
DTSTART;TZID=Europe/Paris:20260417T110000
DTEND;TZID=Europe/Paris:20260507T173000
DTSTAMP:20260422T031514
CREATED:20260421T170911Z
LAST-MODIFIED:20260421T170911Z
UID:143962-1776423600-1778175000@actu.art
SUMMARY:Exposition Patrick Trouillet\, peintre & sculpteur
DESCRIPTION:Pour sa première exposition personnelle\, Patrick Trouillet a choisi la « P’tite Galerie » et nous sommes ravis de l’accueillir sur nos cimaises et nos plots.
URL:https://actu.art/event/exposition-patrick-trouillet-peintre-sculpteur/
LOCATION:La P’tite Galerie\, 22 Rue des Lingots\, Honfleur\, Calvados\, 14600\, France
CATEGORIES:Expositions Galeries
ATTACH;FMTTYPE=image/jpeg:https://actu.art/wp-content/uploads/2026/04/Exposition_Patrick_Trouillet_peintre_sculpteur.jpg
GEO:49.4213421;0.2317129
X-APPLE-STRUCTURED-LOCATION;VALUE=URI;X-ADDRESS=La P’tite Galerie 22 Rue des Lingots Honfleur Calvados 14600 France;X-APPLE-RADIUS=500;X-TITLE=22 Rue des Lingots:geo:0.2317129,49.4213421
END:VEVENT
END:VCALENDAR