BEGIN:VCALENDAR
VERSION:2.0
PRODID:-//Actu.Art - ECPv6.15.13//NONSGML v1.0//EN
CALSCALE:GREGORIAN
METHOD:PUBLISH
X-WR-CALNAME:Actu.Art
X-ORIGINAL-URL:https://actu.art
X-WR-CALDESC:Évènements pour Actu.Art
BEGIN:VTIMEZONE
TZID:Europe/Paris
BEGIN:DAYLIGHT
TZOFFSETFROM:+0100
TZOFFSETTO:+0200
TZNAME:CEST
DTSTART:20240331T010000
END:DAYLIGHT
BEGIN:STANDARD
TZOFFSETFROM:+0200
TZOFFSETTO:+0100
TZNAME:CET
DTSTART:20241027T010000
END:STANDARD
BEGIN:DAYLIGHT
TZOFFSETFROM:+0100
TZOFFSETTO:+0200
TZNAME:CEST
DTSTART:20250330T010000
END:DAYLIGHT
BEGIN:STANDARD
TZOFFSETFROM:+0200
TZOFFSETTO:+0100
TZNAME:CET
DTSTART:20251026T010000
END:STANDARD
BEGIN:DAYLIGHT
TZOFFSETFROM:+0100
TZOFFSETTO:+0200
TZNAME:CEST
DTSTART:20260329T010000
END:DAYLIGHT
BEGIN:STANDARD
TZOFFSETFROM:+0200
TZOFFSETTO:+0100
TZNAME:CET
DTSTART:20261025T010000
END:STANDARD
END:VTIMEZONE
BEGIN:VEVENT
DTSTART;TZID=Europe/Paris:20250703T100000
DTEND;TZID=Europe/Paris:20250730T190000
DTSTAMP:20260424T031556
CREATED:20250609T181923Z
LAST-MODIFIED:20250609T181923Z
UID:120429-1751536800-1753902000@actu.art
SUMMARY:Exposition « Pas.Sages »
DESCRIPTION:PREMIÈRE IMPRESSION est un collectif de six artistes aux univers singuliers mais réunis par une envie commune : créer des œuvres qui font dialoguer les matières\, les formes\, les imaginaires… et les visiteurs.\nPlasticiennes\, graveurs\, vidéastes\, illustratrices\, peintres\, créateurs d’automates\, poètes — nous sommes aussi amis\, complices\, et portés par un élan de transmission. C’est avec cette énergie que nous lançons notre toute première exposition commune cet été\, dans un lieu magique et plein d’âme : la galerie Les Coucarils\, nichée dans le village artistique du Carla Bayle\, en Ariège.\nL’exposition s’intitule PAS.SAGES. Parce que nous croyons aux chemins\, aux passages entre les disciplines et les sensibilités. Parce que nous sommes parfois « pas sages »\, et que c’est de là que naît l’art vivant.
URL:https://actu.art/event/exposition-pas-sages/
LOCATION:Espace Culturel « Les Coucarils »\, Rue Principale\, Le Carla Bayle\, Ariège\, 09130\, France
CATEGORIES:Expositions
ATTACH;FMTTYPE=image/jpeg:https://actu.art/wp-content/uploads/2025/06/Exposition_Pas_Sages_.jpg
GEO:43.149997;1.394166
X-APPLE-STRUCTURED-LOCATION;VALUE=URI;X-ADDRESS=Espace Culturel « Les Coucarils » Rue Principale Le Carla Bayle Ariège 09130 France;X-APPLE-RADIUS=500;X-TITLE=Rue Principale:geo:1.394166,43.149997
END:VEVENT
END:VCALENDAR