BEGIN:VCALENDAR
VERSION:2.0
PRODID:-//Actu.Art - ECPv6.15.13//NONSGML v1.0//EN
CALSCALE:GREGORIAN
METHOD:PUBLISH
X-WR-CALNAME:Actu.Art
X-ORIGINAL-URL:https://actu.art
X-WR-CALDESC:Évènements pour Actu.Art
BEGIN:VTIMEZONE
TZID:Europe/Paris
BEGIN:DAYLIGHT
TZOFFSETFROM:+0100
TZOFFSETTO:+0200
TZNAME:CEST
DTSTART:20240331T010000
END:DAYLIGHT
BEGIN:STANDARD
TZOFFSETFROM:+0200
TZOFFSETTO:+0100
TZNAME:CET
DTSTART:20241027T010000
END:STANDARD
BEGIN:DAYLIGHT
TZOFFSETFROM:+0100
TZOFFSETTO:+0200
TZNAME:CEST
DTSTART:20250330T010000
END:DAYLIGHT
BEGIN:STANDARD
TZOFFSETFROM:+0200
TZOFFSETTO:+0100
TZNAME:CET
DTSTART:20251026T010000
END:STANDARD
BEGIN:DAYLIGHT
TZOFFSETFROM:+0100
TZOFFSETTO:+0200
TZNAME:CEST
DTSTART:20260329T010000
END:DAYLIGHT
BEGIN:STANDARD
TZOFFSETFROM:+0200
TZOFFSETTO:+0100
TZNAME:CET
DTSTART:20261025T010000
END:STANDARD
END:VTIMEZONE
BEGIN:VEVENT
DTSTART;TZID=Europe/Paris:20250602T090000
DTEND;TZID=Europe/Paris:20250902T180000
DTSTAMP:20260422T121152
CREATED:20250601T212441Z
LAST-MODIFIED:20250601T212441Z
UID:119890-1748854800-1756836000@actu.art
SUMMARY:Exposition "Opra'rt"/ Marie Antoinette Delunardo\, Sylvaine Monnier\, Gabriel Cohen avec l'association Opra - Maison des Quartiers Sud - Bastia
DESCRIPTION:Exposition « Opra’rt »/ Marie Antoinette Delunardo\, Sylvaine Monnier\, Gabriel Cohen avec l’association Opra\nDu lundi 2 juin au mardi 2 septembre\nMaison des Quartiers Sud – Bastia \nElle sera visible à la Maison des Quartiers Sud du 02 juin au 02 septembre 2025. \nL’Atelier de peinture de l’association OPRA présente :\nMarie Antoinette Delunardo / Sylvaine Monnier / Gabriel Cohen \nL’association OPRA développe depuis plusieurs années un atelier de peinture sur le quartier de Paese Novu. Cet atelier est encadré par Madame Marie Claude Dettori qui nous propose de découvrir les œuvres de trois élèves qui habitent les quartiers\nsud. \nMarie Antoinette Delunardo\nJ’ai découvert l’atelier de peinture de OPRA en 2022 lors des journées portes ouvertes de l’association\, je m’y suis inscrite et depuis\, je n’ai jamais arrêté. Je participe aussi aux cours de dessin qui y sont proposés. Pour moi\, peindre\, c’est de l’art thérapie. \nSylvaine Monnier\nJ’ai toujours été attiré par la peinture et de tout temps j’ai baigné dans l’ambiance d’une une famille d’artistes. J’ai quelque peu pratiqué le dessin\, toute seule et très occasionnellement. En 2023 j’ai eu connaissance par le bouche à oreille de l’existence de l’atelier de OPRA que j’ai alors intégré. Plaisir\, découverte et création qui font du bien à l’âme. \nGabriel Cohen\nJ’ai commencé la peinture il y a environ 30 ans et après une longue période d’interruption\, j’ai retrouvé une forme d’évasion dans la peinture en intégrant l’atelier de OPRA. De la rue Napoléon aux Quartiers sud\, Gabsbi Cohen vous invite dans son atmosphère.
URL:https://actu.art/event/exposition-oprart-marie-antoinette-delunardo-sylvaine-monnier-gabriel-cohen-avec-lassociation-opra-maison-des-quartiers-sud-bastia/
LOCATION:Maison des Quartiers Sud\, 1 rue Saint-Exupéry\, Bastia\, Haute-Corse\, 20600
CATEGORIES:Expositions
ATTACH;FMTTYPE=image/jpeg:https://actu.art/wp-content/uploads/2025/06/Exposition_Opra_rt_Marie_Antoinette_Delunardo_Sylvaine_Monnier_Gabriel_Cohen_avec_l_association_Opra_Maison_des_Quartiers_Sud_Bastia.jpg
GEO:42.6795363;9.4420395
X-APPLE-STRUCTURED-LOCATION;VALUE=URI;X-ADDRESS=Maison des Quartiers Sud 1 rue Saint-Exupéry Bastia Haute-Corse 20600;X-APPLE-RADIUS=500;X-TITLE=1 rue Saint-Exupéry:geo:9.4420395,42.6795363
END:VEVENT
END:VCALENDAR