BEGIN:VCALENDAR
VERSION:2.0
PRODID:-//Actu.Art - ECPv6.15.13//NONSGML v1.0//EN
CALSCALE:GREGORIAN
METHOD:PUBLISH
X-WR-CALNAME:Actu.Art
X-ORIGINAL-URL:https://actu.art
X-WR-CALDESC:Évènements pour Actu.Art
BEGIN:VTIMEZONE
TZID:Europe/Paris
BEGIN:DAYLIGHT
TZOFFSETFROM:+0100
TZOFFSETTO:+0200
TZNAME:CEST
DTSTART:20240331T010000
END:DAYLIGHT
BEGIN:STANDARD
TZOFFSETFROM:+0200
TZOFFSETTO:+0100
TZNAME:CET
DTSTART:20241027T010000
END:STANDARD
BEGIN:DAYLIGHT
TZOFFSETFROM:+0100
TZOFFSETTO:+0200
TZNAME:CEST
DTSTART:20250330T010000
END:DAYLIGHT
BEGIN:STANDARD
TZOFFSETFROM:+0200
TZOFFSETTO:+0100
TZNAME:CET
DTSTART:20251026T010000
END:STANDARD
BEGIN:DAYLIGHT
TZOFFSETFROM:+0100
TZOFFSETTO:+0200
TZNAME:CEST
DTSTART:20260329T010000
END:DAYLIGHT
BEGIN:STANDARD
TZOFFSETFROM:+0200
TZOFFSETTO:+0100
TZNAME:CET
DTSTART:20261025T010000
END:STANDARD
END:VTIMEZONE
BEGIN:VEVENT
DTSTART;TZID=Europe/Paris:20250905T100000
DTEND;TZID=Europe/Paris:20250911T180000
DTSTAMP:20260419T192605
CREATED:20250906T204724Z
LAST-MODIFIED:20250906T204724Z
UID:127828-1757066400-1757613600@actu.art
SUMMARY:Exposition Objets d'Afrique et art contemporain
DESCRIPTION:Collection d’objets d’artisanat touareg du Niger et collection d’objets d’art premier d’Afrique\, bronzes et peintures d’artistes locaux.
URL:https://actu.art/event/exposition-objets-dafrique-et-art-contemporain/
LOCATION:Salle Aurore\, Angle de la Rue Jean Jaurès\, Rochefort\, Charente-Maritime\, 17300\, France
CATEGORIES:Expositions
ATTACH;FMTTYPE=image/jpeg:https://actu.art/wp-content/uploads/2025/09/Exposition_Objets_d_Afrique_et_art_contemporain.jpg
GEO:45.935275;-0.959542
X-APPLE-STRUCTURED-LOCATION;VALUE=URI;X-ADDRESS=Salle Aurore Angle de la Rue Jean Jaurès Rochefort Charente-Maritime 17300 France;X-APPLE-RADIUS=500;X-TITLE=Angle de la Rue Jean Jaurès:geo:-0.959542,45.935275
END:VEVENT
END:VCALENDAR