BEGIN:VCALENDAR
VERSION:2.0
PRODID:-//Actu.Art - ECPv6.15.13//NONSGML v1.0//EN
CALSCALE:GREGORIAN
METHOD:PUBLISH
X-WR-CALNAME:Actu.Art
X-ORIGINAL-URL:https://actu.art
X-WR-CALDESC:Évènements pour Actu.Art
BEGIN:VTIMEZONE
TZID:Europe/Paris
BEGIN:DAYLIGHT
TZOFFSETFROM:+0100
TZOFFSETTO:+0200
TZNAME:CEST
DTSTART:20240331T010000
END:DAYLIGHT
BEGIN:STANDARD
TZOFFSETFROM:+0200
TZOFFSETTO:+0100
TZNAME:CET
DTSTART:20241027T010000
END:STANDARD
BEGIN:DAYLIGHT
TZOFFSETFROM:+0100
TZOFFSETTO:+0200
TZNAME:CEST
DTSTART:20250330T010000
END:DAYLIGHT
BEGIN:STANDARD
TZOFFSETFROM:+0200
TZOFFSETTO:+0100
TZNAME:CET
DTSTART:20251026T010000
END:STANDARD
BEGIN:DAYLIGHT
TZOFFSETFROM:+0100
TZOFFSETTO:+0200
TZNAME:CEST
DTSTART:20260329T010000
END:DAYLIGHT
BEGIN:STANDARD
TZOFFSETFROM:+0200
TZOFFSETTO:+0100
TZNAME:CET
DTSTART:20261025T010000
END:STANDARD
END:VTIMEZONE
BEGIN:VEVENT
DTSTART;TZID=Europe/Paris:20251004T093000
DTEND;TZID=Europe/Paris:20251004T173000
DTSTAMP:20260424T185719
CREATED:20250914T195122Z
LAST-MODIFIED:20250914T195122Z
UID:128637-1759570200-1759599000@actu.art
SUMMARY:Exposition multi-arts
DESCRIPTION:Quatre artistes vous invitent à découvrir leurs univers créatifs : Magdalena Houzvova présentera ses peintures acryliques colorées\, Heidi Hecht-Rutard ses charmants amigurumis\, Anne-Marie Willgallis ses élégantes créations en verre\, et Aline Converset ses délicates aquarelles. Une exposition riche en couleurs et en matières !
URL:https://actu.art/event/exposition-multi-arts/
LOCATION:Espace Claude Rich\, 2 Rue du Maréchal de Lattre de Tassigny\, Masevaux-Niederbruck\, Haut-Rhin\, 68290
CATEGORIES:Expositions
ATTACH;FMTTYPE=image/jpeg:https://actu.art/wp-content/uploads/2025/09/Exposition_multi_arts.jpg
END:VEVENT
END:VCALENDAR