BEGIN:VCALENDAR
VERSION:2.0
PRODID:-//Actu.Art - ECPv6.15.13//NONSGML v1.0//EN
CALSCALE:GREGORIAN
METHOD:PUBLISH
X-WR-CALNAME:Actu.Art
X-ORIGINAL-URL:https://actu.art
X-WR-CALDESC:Évènements pour Actu.Art
BEGIN:VTIMEZONE
TZID:Europe/Paris
BEGIN:DAYLIGHT
TZOFFSETFROM:+0100
TZOFFSETTO:+0200
TZNAME:CEST
DTSTART:20230326T010000
END:DAYLIGHT
BEGIN:STANDARD
TZOFFSETFROM:+0200
TZOFFSETTO:+0100
TZNAME:CET
DTSTART:20231029T010000
END:STANDARD
BEGIN:DAYLIGHT
TZOFFSETFROM:+0100
TZOFFSETTO:+0200
TZNAME:CEST
DTSTART:20240331T010000
END:DAYLIGHT
BEGIN:STANDARD
TZOFFSETFROM:+0200
TZOFFSETTO:+0100
TZNAME:CET
DTSTART:20241027T010000
END:STANDARD
BEGIN:DAYLIGHT
TZOFFSETFROM:+0100
TZOFFSETTO:+0200
TZNAME:CEST
DTSTART:20250330T010000
END:DAYLIGHT
BEGIN:STANDARD
TZOFFSETFROM:+0200
TZOFFSETTO:+0100
TZNAME:CET
DTSTART:20251026T010000
END:STANDARD
END:VTIMEZONE
BEGIN:VEVENT
DTSTART;VALUE=DATE:20240524
DTEND;VALUE=DATE:20241116
DTSTAMP:20260425T160456
CREATED:20240322T182710Z
LAST-MODIFIED:20240427T121554Z
UID:81287-1716508800-1731715140@actu.art
SUMMARY:Exposition Monumentale à ciel ouvert – Antoine Dufilho
DESCRIPTION:Plongez dans une expérience artistique immersive en plein cœur de la ville de Sainte-Maxime avec l’exposition en plein air mettant en lumière le talent audacieux d’Antoine Dufilho.
URL:https://actu.art/event/exposition-monumentale-a-ciel-ouvert-antoine-dufilho/
LOCATION:Ville de Sainte-Maxime\, Sainte-Maxime\, Var\, 83120\, France
CATEGORIES:Expositions
GEO:43.310184;6.640482
END:VEVENT
END:VCALENDAR