BEGIN:VCALENDAR
VERSION:2.0
PRODID:-//Actu.Art - ECPv6.15.13//NONSGML v1.0//EN
CALSCALE:GREGORIAN
METHOD:PUBLISH
X-WR-CALNAME:Actu.Art
X-ORIGINAL-URL:https://actu.art
X-WR-CALDESC:Évènements pour Actu.Art
BEGIN:VTIMEZONE
TZID:Europe/Paris
BEGIN:DAYLIGHT
TZOFFSETFROM:+0100
TZOFFSETTO:+0200
TZNAME:CEST
DTSTART:20250330T010000
END:DAYLIGHT
BEGIN:STANDARD
TZOFFSETFROM:+0200
TZOFFSETTO:+0100
TZNAME:CET
DTSTART:20251026T010000
END:STANDARD
BEGIN:DAYLIGHT
TZOFFSETFROM:+0100
TZOFFSETTO:+0200
TZNAME:CEST
DTSTART:20260329T010000
END:DAYLIGHT
BEGIN:STANDARD
TZOFFSETFROM:+0200
TZOFFSETTO:+0100
TZNAME:CET
DTSTART:20261025T010000
END:STANDARD
BEGIN:DAYLIGHT
TZOFFSETFROM:+0100
TZOFFSETTO:+0200
TZNAME:CEST
DTSTART:20270328T010000
END:DAYLIGHT
BEGIN:STANDARD
TZOFFSETFROM:+0200
TZOFFSETTO:+0100
TZNAME:CET
DTSTART:20271031T010000
END:STANDARD
END:VTIMEZONE
BEGIN:VEVENT
DTSTART;VALUE=DATE:20260411
DTEND;VALUE=DATE:20260426
DTSTAMP:20260420T173637
CREATED:20260416T062408Z
LAST-MODIFIED:20260416T062408Z
UID:143562-1775865600-1777161599@actu.art
SUMMARY:Exposition Modéles Vivants
DESCRIPTION:Exposition modèles vivants du 11 au 25 avril les artistes du cours de modèles vivants de l’Espace ABI 49 rue Gabriel Cortel à Joigny. Présente leurs dessins dans cette exposition. Chaque artistes à dessinés avec sa techniques : fusains\, pastels\, sanguines\, aquarelles. L’exposition est ouvertes mercredi\, vendredi de 15h à 18h30 samedi de 10h à 18h30.\nOuvert du 11/04/2026 au 25/11/2026 de 15h à 18h30 les mercredi\, vendredis\, et le samedi de 10h à 18h30
URL:https://actu.art/event/exposition-modeles-vivants/
LOCATION:Espace Abi\, 49 rue Gabriel Cortel\, Joigny\, Yonne\, 89300\, France
CATEGORIES:Expositions
ATTACH;FMTTYPE=image/jpeg:https://actu.art/wp-content/uploads/2026/04/Exposition_Modeles_Vivants.jpg
GEO:47.9827992;3.3959681
X-APPLE-STRUCTURED-LOCATION;VALUE=URI;X-ADDRESS=Espace Abi 49 rue Gabriel Cortel Joigny Yonne 89300 France;X-APPLE-RADIUS=500;X-TITLE=49 rue Gabriel Cortel:geo:3.3959681,47.9827992
END:VEVENT
END:VCALENDAR