BEGIN:VCALENDAR
VERSION:2.0
PRODID:-//Actu.Art - ECPv6.15.13//NONSGML v1.0//EN
CALSCALE:GREGORIAN
METHOD:PUBLISH
X-WR-CALNAME:Actu.Art
X-ORIGINAL-URL:https://actu.art
X-WR-CALDESC:Évènements pour Actu.Art
BEGIN:VTIMEZONE
TZID:Europe/Paris
BEGIN:DAYLIGHT
TZOFFSETFROM:+0100
TZOFFSETTO:+0200
TZNAME:CEST
DTSTART:20220327T010000
END:DAYLIGHT
BEGIN:STANDARD
TZOFFSETFROM:+0200
TZOFFSETTO:+0100
TZNAME:CET
DTSTART:20221030T010000
END:STANDARD
BEGIN:DAYLIGHT
TZOFFSETFROM:+0100
TZOFFSETTO:+0200
TZNAME:CEST
DTSTART:20230326T010000
END:DAYLIGHT
BEGIN:STANDARD
TZOFFSETFROM:+0200
TZOFFSETTO:+0100
TZNAME:CET
DTSTART:20231029T010000
END:STANDARD
BEGIN:DAYLIGHT
TZOFFSETFROM:+0100
TZOFFSETTO:+0200
TZNAME:CEST
DTSTART:20240331T010000
END:DAYLIGHT
BEGIN:STANDARD
TZOFFSETFROM:+0200
TZOFFSETTO:+0100
TZNAME:CET
DTSTART:20241027T010000
END:STANDARD
BEGIN:DAYLIGHT
TZOFFSETFROM:+0100
TZOFFSETTO:+0200
TZNAME:CEST
DTSTART:20250330T010000
END:DAYLIGHT
BEGIN:STANDARD
TZOFFSETFROM:+0200
TZOFFSETTO:+0100
TZNAME:CET
DTSTART:20251026T010000
END:STANDARD
END:VTIMEZONE
BEGIN:VEVENT
DTSTART;TZID=Europe/Paris:20230608T000000
DTEND;TZID=Europe/Paris:20241204T235900
DTSTAMP:20260424T235958
CREATED:20240103T223353Z
LAST-MODIFIED:20241103T124109Z
UID:76168-1686182400-1733356740@actu.art
SUMMARY:Exposition « MINE DE RIEN »
DESCRIPTION:Le collectif EPONYME présente MINE DE RIEN \nCette exposition photographique met en lumière une ancienne friche de l’industrie minière en instillant de la vie là où il n’y en a plus.\nPropriété aujourd’hui privée\, ce lieu\, situé à Blaye-Les-Mines est communément appelé « lavoir ». Il s’agit du bâtiment en surface où s’effectuaient les opérations de lavage\, triage et criblage du charbon. Il est\, avec le Musée-mine départemental et les cités ouvrières\, le dernier vestige tangible du riche passé minier du territoire.\nDécouvrez-le sous un angle différent\, vu par un collectif.
URL:https://actu.art/event/exposition-mine-de-rien/
LOCATION:Musée-mine départemental\, 20 Avenue St Sernin\, Cagnac-les-Mines\, Tarn\, 81130\, France
CATEGORIES:Expositions
ATTACH;FMTTYPE=image/jpeg:https://actu.art/wp-content/uploads/2024/01/Exposition_MINE_DE_RIEN_.jpg
GEO:43.9936349;2.1320395
X-APPLE-STRUCTURED-LOCATION;VALUE=URI;X-ADDRESS=Musée-mine départemental 20 Avenue St Sernin Cagnac-les-Mines Tarn 81130 France;X-APPLE-RADIUS=500;X-TITLE=20 Avenue St Sernin:geo:2.1320395,43.9936349
END:VEVENT
END:VCALENDAR