BEGIN:VCALENDAR
VERSION:2.0
PRODID:-//Actu.Art - ECPv6.15.13//NONSGML v1.0//EN
CALSCALE:GREGORIAN
METHOD:PUBLISH
X-WR-CALNAME:Actu.Art
X-ORIGINAL-URL:https://actu.art
X-WR-CALDESC:Évènements pour Actu.Art
BEGIN:VTIMEZONE
TZID:Europe/Paris
BEGIN:DAYLIGHT
TZOFFSETFROM:+0100
TZOFFSETTO:+0200
TZNAME:CEST
DTSTART:20230326T010000
END:DAYLIGHT
BEGIN:STANDARD
TZOFFSETFROM:+0200
TZOFFSETTO:+0100
TZNAME:CET
DTSTART:20231029T010000
END:STANDARD
BEGIN:DAYLIGHT
TZOFFSETFROM:+0100
TZOFFSETTO:+0200
TZNAME:CEST
DTSTART:20240331T010000
END:DAYLIGHT
BEGIN:STANDARD
TZOFFSETFROM:+0200
TZOFFSETTO:+0100
TZNAME:CET
DTSTART:20241027T010000
END:STANDARD
BEGIN:DAYLIGHT
TZOFFSETFROM:+0100
TZOFFSETTO:+0200
TZNAME:CEST
DTSTART:20250330T010000
END:DAYLIGHT
BEGIN:STANDARD
TZOFFSETFROM:+0200
TZOFFSETTO:+0100
TZNAME:CET
DTSTART:20251026T010000
END:STANDARD
BEGIN:DAYLIGHT
TZOFFSETFROM:+0100
TZOFFSETTO:+0200
TZNAME:CEST
DTSTART:20260329T010000
END:DAYLIGHT
BEGIN:STANDARD
TZOFFSETFROM:+0200
TZOFFSETTO:+0100
TZNAME:CET
DTSTART:20261025T010000
END:STANDARD
END:VTIMEZONE
BEGIN:VEVENT
DTSTART;VALUE=DATE:20240326
DTEND;VALUE=DATE:20250327
DTSTAMP:20260423T071515
CREATED:20240329T204317Z
LAST-MODIFIED:20240427T121457Z
UID:81721-1711411200-1743033540@actu.art
SUMMARY:Exposition Michel Gayard Peintures
DESCRIPTION:Exposition Michel Gayard – peintures\nGalerie L’ART D’ICI – 55\, avenue des Sources – 42210 Montron-les-Bains\nouvert tous les jours de 9h à 19h – le week-end sur RDV au 06 11 70 20 51\nLauréat du Prix de Peinture de la Fondation Charles Oulmont-Fondation de France-Paris\nLauréat du Prix Abstraction de la Galerie Upside Art-Paris\nMédaille d’argent à l’international. Art Expo – New-York\nMusée d’Art moderne – Saint-Etienne
URL:https://actu.art/event/exposition-michel-gayard-peintures-2/
LOCATION:Galerie l’Art d’Ici\, Avenue des Sources 55\, Montrond-les-Bains\, Loire\, 42210\, France
CATEGORIES:Expositions Galeries
ATTACH;FMTTYPE=image/jpeg:https://actu.art/wp-content/uploads/2024/03/Exposition_Michel_Gayard_Peintures.jpg
GEO:45.6437857;4.2317948
X-APPLE-STRUCTURED-LOCATION;VALUE=URI;X-ADDRESS=Galerie l’Art d’Ici Avenue des Sources 55 Montrond-les-Bains Loire 42210 France;X-APPLE-RADIUS=500;X-TITLE=Avenue des Sources 55:geo:4.2317948,45.6437857
END:VEVENT
END:VCALENDAR