BEGIN:VCALENDAR
VERSION:2.0
PRODID:-//Actu.Art - ECPv6.15.13//NONSGML v1.0//EN
CALSCALE:GREGORIAN
METHOD:PUBLISH
X-WR-CALNAME:Actu.Art
X-ORIGINAL-URL:https://actu.art
X-WR-CALDESC:Évènements pour Actu.Art
BEGIN:VTIMEZONE
TZID:Europe/Paris
BEGIN:DAYLIGHT
TZOFFSETFROM:+0100
TZOFFSETTO:+0200
TZNAME:CEST
DTSTART:20230326T010000
END:DAYLIGHT
BEGIN:STANDARD
TZOFFSETFROM:+0200
TZOFFSETTO:+0100
TZNAME:CET
DTSTART:20231029T010000
END:STANDARD
BEGIN:DAYLIGHT
TZOFFSETFROM:+0100
TZOFFSETTO:+0200
TZNAME:CEST
DTSTART:20240331T010000
END:DAYLIGHT
BEGIN:STANDARD
TZOFFSETFROM:+0200
TZOFFSETTO:+0100
TZNAME:CET
DTSTART:20241027T010000
END:STANDARD
BEGIN:DAYLIGHT
TZOFFSETFROM:+0100
TZOFFSETTO:+0200
TZNAME:CEST
DTSTART:20250330T010000
END:DAYLIGHT
BEGIN:STANDARD
TZOFFSETFROM:+0200
TZOFFSETTO:+0100
TZNAME:CET
DTSTART:20251026T010000
END:STANDARD
END:VTIMEZONE
BEGIN:VEVENT
DTSTART;TZID=Europe/Paris:20241101T110000
DTEND;TZID=Europe/Paris:20241201T190000
DTSTAMP:20260422T191537
CREATED:20241119T214351Z
LAST-MODIFIED:20241119T214351Z
UID:104924-1730458800-1733079600@actu.art
SUMMARY:Exposition Méli-Mélo à la Tannerie Houdan
DESCRIPTION:Exposition d’art contemporain des artistes de REGARD PAROLE  Œuvres de Hervé Petit\, Léa Kishida\, Pol Brengel\, Anne Moser\, Sun-Hee Lee\, Antemanha\, Yukichi Inoué\, Bernard Blaise\, Hélène Muller\, François Cuau\, Valérie Loiseau\, Claire Valverde\, Jean-Paul Morin\, Mario Urbanet\, Daniel Huchon\, Patrick Labarre\, Yannick Dublineau\, Norma Pedroche\, Patrice Leterrier\, Marie-Odile Huard\, Sandrine Ars Coignard\, Guillermo Krasnopolsky et Jean-François Oudry VERNISSAGE le dimanche 3 novembre à 11h FINISSAGE le 1er décembre à 16h : récital ONDES MARTENOT & VOIX par Nathalie Forget et Antemanha
URL:https://actu.art/event/exposition-meli-melo-a-la-tannerie-houdan/
LOCATION:La Tannerie\, 57\, rue de Paris\, Houdan\, Yvelines\, 78550\, France
CATEGORIES:Expositions
ATTACH;FMTTYPE=image/jpeg:https://actu.art/wp-content/uploads/2024/11/Exposition_Meli_Melo_a_la_Tannerie_Houdan.jpg
GEO:48.7913055;1.5999565
X-APPLE-STRUCTURED-LOCATION;VALUE=URI;X-ADDRESS=La Tannerie 57 rue de Paris Houdan Yvelines 78550 France;X-APPLE-RADIUS=500;X-TITLE=57\, rue de Paris:geo:1.5999565,48.7913055
END:VEVENT
END:VCALENDAR