BEGIN:VCALENDAR
VERSION:2.0
PRODID:-//Actu.Art - ECPv6.15.13//NONSGML v1.0//EN
CALSCALE:GREGORIAN
METHOD:PUBLISH
X-WR-CALNAME:Actu.Art
X-ORIGINAL-URL:https://actu.art
X-WR-CALDESC:Évènements pour Actu.Art
BEGIN:VTIMEZONE
TZID:Europe/Paris
BEGIN:DAYLIGHT
TZOFFSETFROM:+0100
TZOFFSETTO:+0200
TZNAME:CEST
DTSTART:20240331T010000
END:DAYLIGHT
BEGIN:STANDARD
TZOFFSETFROM:+0200
TZOFFSETTO:+0100
TZNAME:CET
DTSTART:20241027T010000
END:STANDARD
BEGIN:DAYLIGHT
TZOFFSETFROM:+0100
TZOFFSETTO:+0200
TZNAME:CEST
DTSTART:20250330T010000
END:DAYLIGHT
BEGIN:STANDARD
TZOFFSETFROM:+0200
TZOFFSETTO:+0100
TZNAME:CET
DTSTART:20251026T010000
END:STANDARD
BEGIN:DAYLIGHT
TZOFFSETFROM:+0100
TZOFFSETTO:+0200
TZNAME:CEST
DTSTART:20260329T010000
END:DAYLIGHT
BEGIN:STANDARD
TZOFFSETFROM:+0200
TZOFFSETTO:+0100
TZNAME:CET
DTSTART:20261025T010000
END:STANDARD
END:VTIMEZONE
BEGIN:VEVENT
DTSTART;TZID=Europe/Paris:20250513T100000
DTEND;TZID=Europe/Paris:20250522T180000
DTSTAMP:20260419T181106
CREATED:20250421T171823Z
LAST-MODIFIED:20250421T185019Z
UID:115245-1747130400-1747936800@actu.art
SUMMARY:Exposition Martine Faye et Jacqui Clarke
DESCRIPTION:La section arts plastiques du GEM (Groupe d’Expression Monflanquinois) accueille les travaux de gravure de Martine Faye etJacqui Clarke.\nExposition visible de 10h à 12h30 et de 14h30 à 18h\nVernissage le 16 mai à 18h
URL:https://actu.art/event/exposition-martine-faye-et-jacqui-clarke/
LOCATION:Salle Aquitaine\, Place des arcades\, Monflanquin \, Lot-et-Garonne\, 47150\, France
CATEGORIES:Expositions
ATTACH;FMTTYPE=image/jpeg:https://actu.art/wp-content/uploads/2025/04/Exposition_Martine_Faye_et_Jacqui_Clarke.jpg
GEO:44.532433;0.768089
X-APPLE-STRUCTURED-LOCATION;VALUE=URI;X-ADDRESS=Salle Aquitaine Place des arcades Monflanquin  Lot-et-Garonne 47150 France;X-APPLE-RADIUS=500;X-TITLE=Place des arcades:geo:0.768089,44.532433
END:VEVENT
END:VCALENDAR