BEGIN:VCALENDAR
VERSION:2.0
PRODID:-//Actu.Art - ECPv6.15.13//NONSGML v1.0//EN
CALSCALE:GREGORIAN
METHOD:PUBLISH
X-WR-CALNAME:Actu.Art
X-ORIGINAL-URL:https://actu.art
X-WR-CALDESC:Évènements pour Actu.Art
BEGIN:VTIMEZONE
TZID:Europe/Paris
BEGIN:DAYLIGHT
TZOFFSETFROM:+0100
TZOFFSETTO:+0200
TZNAME:CEST
DTSTART:20240331T010000
END:DAYLIGHT
BEGIN:STANDARD
TZOFFSETFROM:+0200
TZOFFSETTO:+0100
TZNAME:CET
DTSTART:20241027T010000
END:STANDARD
BEGIN:DAYLIGHT
TZOFFSETFROM:+0100
TZOFFSETTO:+0200
TZNAME:CEST
DTSTART:20250330T010000
END:DAYLIGHT
BEGIN:STANDARD
TZOFFSETFROM:+0200
TZOFFSETTO:+0100
TZNAME:CET
DTSTART:20251026T010000
END:STANDARD
BEGIN:DAYLIGHT
TZOFFSETFROM:+0100
TZOFFSETTO:+0200
TZNAME:CEST
DTSTART:20260329T010000
END:DAYLIGHT
BEGIN:STANDARD
TZOFFSETFROM:+0200
TZOFFSETTO:+0100
TZNAME:CET
DTSTART:20261025T010000
END:STANDARD
END:VTIMEZONE
BEGIN:VEVENT
DTSTART;VALUE=DATE:20250416
DTEND;VALUE=DATE:20250602
DTSTAMP:20260426T001525
CREATED:20250416T095220Z
LAST-MODIFIED:20250416T095220Z
UID:114506-1744761600-1748822399@actu.art
SUMMARY:Exposition Manuel Rubalo – Galerie Dupuis
DESCRIPTION:Exposition Manuel Rubalo à la Galerie d’Art Joël Dupuis. Peintures. 4\, place de Bournonville. 03.21.33.65.38. www.galeriedupuis.com
URL:https://actu.art/event/exposition-manuel-rubalo-galerie-dupuis/
LOCATION:Galerie Dupuis\, 4 Place de Bournonville\, Neufchâtel-Hardelot\, Pas-de-Calais\, 62152\, France
CATEGORIES:Expositions Galeries
ATTACH;FMTTYPE=image/jpeg:https://actu.art/wp-content/uploads/2025/04/Exposition_Manuel_Rubalo_Galerie_Dupuis.jpg
GEO:50.6327459;1.5779176
X-APPLE-STRUCTURED-LOCATION;VALUE=URI;X-ADDRESS=Galerie Dupuis 4 Place de Bournonville Neufchâtel-Hardelot Pas-de-Calais 62152 France;X-APPLE-RADIUS=500;X-TITLE=4 Place de Bournonville:geo:1.5779176,50.6327459
END:VEVENT
END:VCALENDAR