BEGIN:VCALENDAR
VERSION:2.0
PRODID:-//Actu.Art - ECPv6.15.13//NONSGML v1.0//EN
CALSCALE:GREGORIAN
METHOD:PUBLISH
X-WR-CALNAME:Actu.Art
X-ORIGINAL-URL:https://actu.art
X-WR-CALDESC:Évènements pour Actu.Art
BEGIN:VTIMEZONE
TZID:Europe/Paris
BEGIN:DAYLIGHT
TZOFFSETFROM:+0100
TZOFFSETTO:+0200
TZNAME:CEST
DTSTART:20250330T010000
END:DAYLIGHT
BEGIN:STANDARD
TZOFFSETFROM:+0200
TZOFFSETTO:+0100
TZNAME:CET
DTSTART:20251026T010000
END:STANDARD
BEGIN:DAYLIGHT
TZOFFSETFROM:+0100
TZOFFSETTO:+0200
TZNAME:CEST
DTSTART:20260329T010000
END:DAYLIGHT
BEGIN:STANDARD
TZOFFSETFROM:+0200
TZOFFSETTO:+0100
TZNAME:CET
DTSTART:20261025T010000
END:STANDARD
BEGIN:DAYLIGHT
TZOFFSETFROM:+0100
TZOFFSETTO:+0200
TZNAME:CEST
DTSTART:20270328T010000
END:DAYLIGHT
BEGIN:STANDARD
TZOFFSETFROM:+0200
TZOFFSETTO:+0100
TZNAME:CET
DTSTART:20271031T010000
END:STANDARD
END:VTIMEZONE
BEGIN:VEVENT
DTSTART;TZID=Europe/Paris:20260421T100000
DTEND;TZID=Europe/Paris:20260426T180000
DTSTAMP:20260422T171820
CREATED:20260421T200019Z
LAST-MODIFIED:20260421T200019Z
UID:144106-1776765600-1777226400@actu.art
SUMMARY:Exposition "Magritte à Pau"
DESCRIPTION:Exposition : »Magritte à Pau »… une relecture de l’univers du peintre Belge avec un brin d’humour…\nÀ vos agendas pour les dates : du 21/04/26 au 26/04/26 au Passage Carnot. Salle d’exposition du premier Étage.
URL:https://actu.art/event/exposition-magritte-a-pau/
LOCATION:Passage Carnot\, Rue Carnot\, Pau\, Pyrénées-Atlantiques\, 64000\, France
CATEGORIES:Expositions
ATTACH;FMTTYPE=image/jpeg:https://actu.art/wp-content/uploads/2026/04/Exposition_Magritte_a_Pau_.jpg
GEO:43.3014954;-0.3692843
X-APPLE-STRUCTURED-LOCATION;VALUE=URI;X-ADDRESS=Passage Carnot Rue Carnot Pau Pyrénées-Atlantiques 64000 France;X-APPLE-RADIUS=500;X-TITLE=Rue Carnot:geo:-0.3692843,43.3014954
END:VEVENT
END:VCALENDAR