BEGIN:VCALENDAR
VERSION:2.0
PRODID:-//Actu.Art - ECPv6.15.13//NONSGML v1.0//EN
CALSCALE:GREGORIAN
METHOD:PUBLISH
X-WR-CALNAME:Actu.Art
X-ORIGINAL-URL:https://actu.art
X-WR-CALDESC:Évènements pour Actu.Art
BEGIN:VTIMEZONE
TZID:Europe/Paris
BEGIN:DAYLIGHT
TZOFFSETFROM:+0100
TZOFFSETTO:+0200
TZNAME:CEST
DTSTART:20240331T010000
END:DAYLIGHT
BEGIN:STANDARD
TZOFFSETFROM:+0200
TZOFFSETTO:+0100
TZNAME:CET
DTSTART:20241027T010000
END:STANDARD
BEGIN:DAYLIGHT
TZOFFSETFROM:+0100
TZOFFSETTO:+0200
TZNAME:CEST
DTSTART:20250330T010000
END:DAYLIGHT
BEGIN:STANDARD
TZOFFSETFROM:+0200
TZOFFSETTO:+0100
TZNAME:CET
DTSTART:20251026T010000
END:STANDARD
BEGIN:DAYLIGHT
TZOFFSETFROM:+0100
TZOFFSETTO:+0200
TZNAME:CEST
DTSTART:20260329T010000
END:DAYLIGHT
BEGIN:STANDARD
TZOFFSETFROM:+0200
TZOFFSETTO:+0100
TZNAME:CET
DTSTART:20261025T010000
END:STANDARD
END:VTIMEZONE
BEGIN:VEVENT
DTSTART;TZID=Europe/Paris:20250421T100000
DTEND;TZID=Europe/Paris:20250504T190000
DTSTAMP:20260426T060517
CREATED:20250423T205516Z
LAST-MODIFIED:20250423T205516Z
UID:115648-1745229600-1746385200@actu.art
SUMMARY:Exposition : Lo Giudice - Galerie Archipel - Aiacciu
DESCRIPTION:Exposition : Lo Giudice  \nDu 21 avril au 4 mai \nGalerie « Archipel » – Aiacciu
URL:https://actu.art/event/exposition-lo-giudice-galerie-archipel-aiacciu/
LOCATION:Citadelle Miollis\, boulevard Danielle Casanova\, Ajaccio\, Corse-du-Sud\, 20000\, France
CATEGORIES:Expositions
ATTACH;FMTTYPE=image/jpeg:https://actu.art/wp-content/uploads/2025/04/Exposition_Lo_Giudice_Galerie_Archipel_Aiacciu.jpg
GEO:41.9171266;8.739056
X-APPLE-STRUCTURED-LOCATION;VALUE=URI;X-ADDRESS=Citadelle Miollis boulevard Danielle Casanova Ajaccio Corse-du-Sud 20000 France;X-APPLE-RADIUS=500;X-TITLE=boulevard Danielle Casanova:geo:8.739056,41.9171266
END:VEVENT
END:VCALENDAR