BEGIN:VCALENDAR
VERSION:2.0
PRODID:-//Actu.Art - ECPv6.15.13//NONSGML v1.0//EN
CALSCALE:GREGORIAN
METHOD:PUBLISH
X-WR-CALNAME:Actu.Art
X-ORIGINAL-URL:https://actu.art
X-WR-CALDESC:Évènements pour Actu.Art
BEGIN:VTIMEZONE
TZID:Europe/Paris
BEGIN:DAYLIGHT
TZOFFSETFROM:+0100
TZOFFSETTO:+0200
TZNAME:CEST
DTSTART:20240331T010000
END:DAYLIGHT
BEGIN:STANDARD
TZOFFSETFROM:+0200
TZOFFSETTO:+0100
TZNAME:CET
DTSTART:20241027T010000
END:STANDARD
BEGIN:DAYLIGHT
TZOFFSETFROM:+0100
TZOFFSETTO:+0200
TZNAME:CEST
DTSTART:20250330T010000
END:DAYLIGHT
BEGIN:STANDARD
TZOFFSETFROM:+0200
TZOFFSETTO:+0100
TZNAME:CET
DTSTART:20251026T010000
END:STANDARD
BEGIN:DAYLIGHT
TZOFFSETFROM:+0100
TZOFFSETTO:+0200
TZNAME:CEST
DTSTART:20260329T010000
END:DAYLIGHT
BEGIN:STANDARD
TZOFFSETFROM:+0200
TZOFFSETTO:+0100
TZNAME:CET
DTSTART:20261025T010000
END:STANDARD
END:VTIMEZONE
BEGIN:VEVENT
DTSTART;TZID=Europe/Paris:20250808T100000
DTEND;TZID=Europe/Paris:20250907T180000
DTSTAMP:20260424T201947
CREATED:20250629T204514Z
LAST-MODIFIED:20250629T204514Z
UID:122200-1754647200-1757268000@actu.art
SUMMARY:Exposition : Lignes de fuites
DESCRIPTION:Exposition « lignes de fuites » de Jonathan Hindson à dans le magnifique écrin de la Collégiale Notre Dame.\nEntrée Libre
URL:https://actu.art/event/exposition-lignes-de-fuites/
LOCATION:Collégiale Notre Dame\, Pl. de la Vieille Église\, Ribérac\, Dordogne\, 24600\, France
CATEGORIES:Expositions
ATTACH;FMTTYPE=image/jpeg:https://actu.art/wp-content/uploads/2025/06/Exposition_Lignes_de_fuites.jpg
GEO:45.247365;0.343044
X-APPLE-STRUCTURED-LOCATION;VALUE=URI;X-ADDRESS=Collégiale Notre Dame Pl. de la Vieille Église Ribérac Dordogne 24600 France;X-APPLE-RADIUS=500;X-TITLE=Pl. de la Vieille Église:geo:0.343044,45.247365
END:VEVENT
END:VCALENDAR