BEGIN:VCALENDAR
VERSION:2.0
PRODID:-//Actu.Art - ECPv6.15.13//NONSGML v1.0//EN
CALSCALE:GREGORIAN
METHOD:PUBLISH
X-WR-CALNAME:Actu.Art
X-ORIGINAL-URL:https://actu.art
X-WR-CALDESC:Évènements pour Actu.Art
BEGIN:VTIMEZONE
TZID:Europe/Paris
BEGIN:DAYLIGHT
TZOFFSETFROM:+0100
TZOFFSETTO:+0200
TZNAME:CEST
DTSTART:20240331T010000
END:DAYLIGHT
BEGIN:STANDARD
TZOFFSETFROM:+0200
TZOFFSETTO:+0100
TZNAME:CET
DTSTART:20241027T010000
END:STANDARD
BEGIN:DAYLIGHT
TZOFFSETFROM:+0100
TZOFFSETTO:+0200
TZNAME:CEST
DTSTART:20250330T010000
END:DAYLIGHT
BEGIN:STANDARD
TZOFFSETFROM:+0200
TZOFFSETTO:+0100
TZNAME:CET
DTSTART:20251026T010000
END:STANDARD
BEGIN:DAYLIGHT
TZOFFSETFROM:+0100
TZOFFSETTO:+0200
TZNAME:CEST
DTSTART:20260329T010000
END:DAYLIGHT
BEGIN:STANDARD
TZOFFSETFROM:+0200
TZOFFSETTO:+0100
TZNAME:CET
DTSTART:20261025T010000
END:STANDARD
END:VTIMEZONE
BEGIN:VEVENT
DTSTART;VALUE=DATE:20250602
DTEND;VALUE=DATE:20250616
DTSTAMP:20260420T172010
CREATED:20250303T164315Z
LAST-MODIFIED:20250303T164315Z
UID:109502-1748822400-1750031999@actu.art
SUMMARY:[Exposition] Les Peintres de Martigny
DESCRIPTION:Collectif du Pays dieppois\, les peintres de Martigny sont des artistes amateurs non dénués de talent. Chaque année\, leur exposition offranvillaise donne un vent de fraîcheur dans une programmation culturelle danse et professionnelle.  \nPoussez la porte de la Grange au Moulin\, dans le Parc du Colombier\, pour aller à la rencontre de ces artistes et de leurs univers.
URL:https://actu.art/event/exposition-les-peintres-de-martigny/
LOCATION:Parc du Colombier\, Rue Loucheur\, Offranville\, Seine-Maritime\, 76550\, France
CATEGORIES:Expositions
GEO:49.8731997;1.0452999
X-APPLE-STRUCTURED-LOCATION;VALUE=URI;X-ADDRESS=Parc du Colombier Rue Loucheur Offranville Seine-Maritime 76550 France;X-APPLE-RADIUS=500;X-TITLE=Rue Loucheur:geo:1.0452999,49.8731997
END:VEVENT
END:VCALENDAR