BEGIN:VCALENDAR
VERSION:2.0
PRODID:-//Actu.Art - ECPv6.15.13//NONSGML v1.0//EN
CALSCALE:GREGORIAN
METHOD:PUBLISH
X-WR-CALNAME:Actu.Art
X-ORIGINAL-URL:https://actu.art
X-WR-CALDESC:Évènements pour Actu.Art
BEGIN:VTIMEZONE
TZID:Europe/Paris
BEGIN:DAYLIGHT
TZOFFSETFROM:+0100
TZOFFSETTO:+0200
TZNAME:CEST
DTSTART:20240331T010000
END:DAYLIGHT
BEGIN:STANDARD
TZOFFSETFROM:+0200
TZOFFSETTO:+0100
TZNAME:CET
DTSTART:20241027T010000
END:STANDARD
BEGIN:DAYLIGHT
TZOFFSETFROM:+0100
TZOFFSETTO:+0200
TZNAME:CEST
DTSTART:20250330T010000
END:DAYLIGHT
BEGIN:STANDARD
TZOFFSETFROM:+0200
TZOFFSETTO:+0100
TZNAME:CET
DTSTART:20251026T010000
END:STANDARD
BEGIN:DAYLIGHT
TZOFFSETFROM:+0100
TZOFFSETTO:+0200
TZNAME:CEST
DTSTART:20260329T010000
END:DAYLIGHT
BEGIN:STANDARD
TZOFFSETFROM:+0200
TZOFFSETTO:+0100
TZNAME:CET
DTSTART:20261025T010000
END:STANDARD
END:VTIMEZONE
BEGIN:VEVENT
DTSTART;VALUE=DATE:20250502
DTEND;VALUE=DATE:20251103
DTSTAMP:20260421T003459
CREATED:20250706T203802Z
LAST-MODIFIED:20250706T203802Z
UID:122811-1746144000-1762127999@actu.art
SUMMARY:Exposition « Les chouettes – portraits »
DESCRIPTION:L’Office de Tourisme de Hanau-La Petite Pierre accueille jusqu’à fin septembre une exposition consacrée aux chouettes\, réalisée par Denis Lavoyer\, artiste local et fondateur du Relais des Arts. Inspirée par les hululements nocturnes entendus en forêt\, l’exposition présente une douzaine de portraits peints à l’acrylique\, mettant en lumière différentes espèces de chouettes et hiboux européens. Leurs regards captivants interpellent le visiteur sur son lien avec la nature.\nDenis Lavoyer\, passionné de sciences naturelles\, mêle art\, science et poésie dans ses créations. Son atelier\, installé dans un ancien relais de poste du XVIIIe siècle à La Petite Pierre\, est un espace d’exposition unique où se côtoient peintures\, sculptures et curiosités naturalistes. L’exposition à l’Office de Tourisme offre un bel aperçu de son univers\, à approfondir en visitant le Relais des Arts\, tout proche.
URL:https://actu.art/event/exposition-les-chouettes-portraits/
LOCATION:La Petite-Pierre\, 2a rue du château\, La Petite-Pierre\, Bas-Rhin\, 67290\, France
CATEGORIES:Expositions
ATTACH;FMTTYPE=image/jpeg:https://actu.art/wp-content/uploads/2025/07/Exposition_Les_chouettes_portraits_.jpg
GEO:48.856625;7.3191792
X-APPLE-STRUCTURED-LOCATION;VALUE=URI;X-ADDRESS=La Petite-Pierre 2a rue du château La Petite-Pierre Bas-Rhin 67290 France;X-APPLE-RADIUS=500;X-TITLE=2a rue du château:geo:7.3191792,48.856625
END:VEVENT
END:VCALENDAR