BEGIN:VCALENDAR
VERSION:2.0
PRODID:-//Actu.Art - ECPv6.15.13//NONSGML v1.0//EN
CALSCALE:GREGORIAN
METHOD:PUBLISH
X-WR-CALNAME:Actu.Art
X-ORIGINAL-URL:https://actu.art
X-WR-CALDESC:Évènements pour Actu.Art
BEGIN:VTIMEZONE
TZID:Europe/Paris
BEGIN:DAYLIGHT
TZOFFSETFROM:+0100
TZOFFSETTO:+0200
TZNAME:CEST
DTSTART:20240331T010000
END:DAYLIGHT
BEGIN:STANDARD
TZOFFSETFROM:+0200
TZOFFSETTO:+0100
TZNAME:CET
DTSTART:20241027T010000
END:STANDARD
BEGIN:DAYLIGHT
TZOFFSETFROM:+0100
TZOFFSETTO:+0200
TZNAME:CEST
DTSTART:20250330T010000
END:DAYLIGHT
BEGIN:STANDARD
TZOFFSETFROM:+0200
TZOFFSETTO:+0100
TZNAME:CET
DTSTART:20251026T010000
END:STANDARD
BEGIN:DAYLIGHT
TZOFFSETFROM:+0100
TZOFFSETTO:+0200
TZNAME:CEST
DTSTART:20260329T010000
END:DAYLIGHT
BEGIN:STANDARD
TZOFFSETFROM:+0200
TZOFFSETTO:+0100
TZNAME:CET
DTSTART:20261025T010000
END:STANDARD
END:VTIMEZONE
BEGIN:VEVENT
DTSTART;VALUE=DATE:20251129
DTEND;VALUE=DATE:20251201
DTSTAMP:20260424T125034
CREATED:20251203T180354Z
LAST-MODIFIED:20251203T180354Z
UID:134369-1764374400-1764547199@actu.art
SUMMARY:Exposition l’envie d’art
DESCRIPTION:Hom’Art Rhénan fait escale dans un nouveau lieu dédié à la créativité à Molsheim pour sa première exposition collective\, en partenariat avec la société enVie. Sous le titre évocateur « envie d’art »\, six artistes présentent leurs créations dans un lieu où l’imagination et la matière dialoguent librement :\nChristophe Hamm – photographie\nDamien Schitter – peinture\nFranzele – peinture\nGad – art digital\nOssabb – sculpture\nValérie Leclerc – technique mixte\nCette exposition marque la rencontre entre un collectif d’artistes passionnés et une entreprise créative qui partage la même enVie de valoriser la création sous toutes ses formes. Une belle occasion de découvrir un nouveau lieu d’exposition à Molsheim\, mais aussi d’embarquer dans l’univers coloré et un brin décalé du Hom’Art Rhénan…
URL:https://actu.art/event/exposition-lenvie-dart/
LOCATION:enVie\, 10 avenue du général de Gaulle\, Molsheim\, Bas-Rhin\, 67120
CATEGORIES:Expositions
ATTACH;FMTTYPE=image/jpeg:https://actu.art/wp-content/uploads/2025/11/Exposition_l_envie_d_art.jpg
GEO:48.5429551;7.4892112
X-APPLE-STRUCTURED-LOCATION;VALUE=URI;X-ADDRESS=enVie 10 avenue du général de Gaulle Molsheim Bas-Rhin 67120;X-APPLE-RADIUS=500;X-TITLE=10 avenue du général de Gaulle:geo:7.4892112,48.5429551
END:VEVENT
END:VCALENDAR