BEGIN:VCALENDAR
VERSION:2.0
PRODID:-//Actu.Art - ECPv6.15.13//NONSGML v1.0//EN
CALSCALE:GREGORIAN
METHOD:PUBLISH
X-WR-CALNAME:Actu.Art
X-ORIGINAL-URL:https://actu.art
X-WR-CALDESC:Évènements pour Actu.Art
BEGIN:VTIMEZONE
TZID:Europe/Paris
BEGIN:DAYLIGHT
TZOFFSETFROM:+0100
TZOFFSETTO:+0200
TZNAME:CEST
DTSTART:20240331T010000
END:DAYLIGHT
BEGIN:STANDARD
TZOFFSETFROM:+0200
TZOFFSETTO:+0100
TZNAME:CET
DTSTART:20241027T010000
END:STANDARD
BEGIN:DAYLIGHT
TZOFFSETFROM:+0100
TZOFFSETTO:+0200
TZNAME:CEST
DTSTART:20250330T010000
END:DAYLIGHT
BEGIN:STANDARD
TZOFFSETFROM:+0200
TZOFFSETTO:+0100
TZNAME:CET
DTSTART:20251026T010000
END:STANDARD
BEGIN:DAYLIGHT
TZOFFSETFROM:+0100
TZOFFSETTO:+0200
TZNAME:CEST
DTSTART:20260329T010000
END:DAYLIGHT
BEGIN:STANDARD
TZOFFSETFROM:+0200
TZOFFSETTO:+0100
TZNAME:CET
DTSTART:20261025T010000
END:STANDARD
END:VTIMEZONE
BEGIN:VEVENT
DTSTART;VALUE=DATE:20250416
DTEND;VALUE=DATE:20250616
DTSTAMP:20260426T043127
CREATED:20250423T211357Z
LAST-MODIFIED:20250423T211357Z
UID:115449-1744761600-1750031999@actu.art
SUMMARY:Exposition « Le Portrait Oublié »
DESCRIPTION:Exposition et vidéo\nPlus de 150 peintures et dessins du XVIIIe au XXIe siècle\, de la Collection Michans
URL:https://actu.art/event/exposition-le-portrait-oublie/
LOCATION:Centre Culturel Artémeum\, Place Jeanne Mance 4\, Langres\, Haute-Marne\, 52200\, France
CATEGORIES:Expositions
ATTACH;FMTTYPE=image/jpeg:https://actu.art/wp-content/uploads/2025/04/Exposition_Le_Portrait_Oublie_.jpg
GEO:47.8642509;5.3349871
X-APPLE-STRUCTURED-LOCATION;VALUE=URI;X-ADDRESS=Centre Culturel Artémeum Place Jeanne Mance 4 Langres Haute-Marne 52200 France;X-APPLE-RADIUS=500;X-TITLE=Place Jeanne Mance 4:geo:5.3349871,47.8642509
END:VEVENT
END:VCALENDAR