BEGIN:VCALENDAR
VERSION:2.0
PRODID:-//Actu.Art - ECPv6.15.13//NONSGML v1.0//EN
CALSCALE:GREGORIAN
METHOD:PUBLISH
X-WR-CALNAME:Actu.Art
X-ORIGINAL-URL:https://actu.art
X-WR-CALDESC:Évènements pour Actu.Art
BEGIN:VTIMEZONE
TZID:Europe/Paris
BEGIN:DAYLIGHT
TZOFFSETFROM:+0100
TZOFFSETTO:+0200
TZNAME:CEST
DTSTART:20240331T010000
END:DAYLIGHT
BEGIN:STANDARD
TZOFFSETFROM:+0200
TZOFFSETTO:+0100
TZNAME:CET
DTSTART:20241027T010000
END:STANDARD
BEGIN:DAYLIGHT
TZOFFSETFROM:+0100
TZOFFSETTO:+0200
TZNAME:CEST
DTSTART:20250330T010000
END:DAYLIGHT
BEGIN:STANDARD
TZOFFSETFROM:+0200
TZOFFSETTO:+0100
TZNAME:CET
DTSTART:20251026T010000
END:STANDARD
BEGIN:DAYLIGHT
TZOFFSETFROM:+0100
TZOFFSETTO:+0200
TZNAME:CEST
DTSTART:20260329T010000
END:DAYLIGHT
BEGIN:STANDARD
TZOFFSETFROM:+0200
TZOFFSETTO:+0100
TZNAME:CET
DTSTART:20261025T010000
END:STANDARD
END:VTIMEZONE
BEGIN:VEVENT
DTSTART;TZID=Europe/Paris:20250602T100000
DTEND;TZID=Europe/Paris:20250615T120000
DTSTAMP:20260420T145126
CREATED:20250421T165327Z
LAST-MODIFIED:20250421T191018Z
UID:115207-1748858400-1749988800@actu.art
SUMMARY:Exposition "Le ciel est bleu et l'eau mouille"
DESCRIPTION:Exposition de peinture et improvisations d’histoires écrites à la main et gratuites présentée par la peintre Astrid VAN DER WEERD et Denis RESERBAT-PLANTEY (Le Fabricauteur ) improvisateur d’histoires.
URL:https://actu.art/event/exposition-le-ciel-est-bleu-et-leau-mouille/
LOCATION:Espace Maggy Martel\, Boulevard Michelet 7\, Saint-Georges-de-Didonne\, Charente-Maritime\, 17110\, France
CATEGORIES:Expositions
GEO:45.601559;-0.998653
X-APPLE-STRUCTURED-LOCATION;VALUE=URI;X-ADDRESS=Espace Maggy Martel Boulevard Michelet 7 Saint-Georges-de-Didonne Charente-Maritime 17110 France;X-APPLE-RADIUS=500;X-TITLE=Boulevard Michelet 7:geo:-0.998653,45.601559
END:VEVENT
END:VCALENDAR