BEGIN:VCALENDAR
VERSION:2.0
PRODID:-//Actu.Art - ECPv6.15.13//NONSGML v1.0//EN
CALSCALE:GREGORIAN
METHOD:PUBLISH
X-WR-CALNAME:Actu.Art
X-ORIGINAL-URL:https://actu.art
X-WR-CALDESC:Évènements pour Actu.Art
BEGIN:VTIMEZONE
TZID:Europe/Paris
BEGIN:DAYLIGHT
TZOFFSETFROM:+0100
TZOFFSETTO:+0200
TZNAME:CEST
DTSTART:20250330T010000
END:DAYLIGHT
BEGIN:STANDARD
TZOFFSETFROM:+0200
TZOFFSETTO:+0100
TZNAME:CET
DTSTART:20251026T010000
END:STANDARD
BEGIN:DAYLIGHT
TZOFFSETFROM:+0100
TZOFFSETTO:+0200
TZNAME:CEST
DTSTART:20260329T010000
END:DAYLIGHT
BEGIN:STANDARD
TZOFFSETFROM:+0200
TZOFFSETTO:+0100
TZNAME:CET
DTSTART:20261025T010000
END:STANDARD
BEGIN:DAYLIGHT
TZOFFSETFROM:+0100
TZOFFSETTO:+0200
TZNAME:CEST
DTSTART:20270328T010000
END:DAYLIGHT
BEGIN:STANDARD
TZOFFSETFROM:+0200
TZOFFSETTO:+0100
TZNAME:CET
DTSTART:20271031T010000
END:STANDARD
END:VTIMEZONE
BEGIN:VEVENT
DTSTART;TZID=Europe/Paris:20260425T000000
DTEND;TZID=Europe/Paris:20260426T000000
DTSTAMP:20260424T003435
CREATED:20260421T195455Z
LAST-MODIFIED:20260421T195455Z
UID:144096-1777075200-1777161600@actu.art
SUMMARY:Exposition : "Le bois dans tous ses états"
DESCRIPTION:L’Association Patrimoine et Nature de Montmort-Lucy vous invite à découvrir les peintures et encres de Claude Jacquesson\, autour d’une thématique aussi belle que poétique : le bois dans tous ses états.\nEntre texture\, matière et couleur\, l’artiste pose un regard sensible et singulier sur le bois — cet élément naturel omniprésent dans nos paysages champenois — et nous invite à le redécouvrir sous un angle artistique inattendu.
URL:https://actu.art/event/exposition-le-bois-dans-tous-ses-etats/
LOCATION:Salle d’exposition – Montmort-Lucy\, 1 rue Sainte-Anne\, Montmort-Lucy\, Marne\, 51270
CATEGORIES:Expositions
ATTACH;FMTTYPE=image/jpeg:https://actu.art/wp-content/uploads/2026/04/Exposition_Le_bois_dans_tous_ses_etats_.jpg
END:VEVENT
END:VCALENDAR