BEGIN:VCALENDAR
VERSION:2.0
PRODID:-//Actu.Art - ECPv6.15.13//NONSGML v1.0//EN
CALSCALE:GREGORIAN
METHOD:PUBLISH
X-WR-CALNAME:Actu.Art
X-ORIGINAL-URL:https://actu.art
X-WR-CALDESC:Évènements pour Actu.Art
BEGIN:VTIMEZONE
TZID:Europe/Paris
BEGIN:DAYLIGHT
TZOFFSETFROM:+0100
TZOFFSETTO:+0200
TZNAME:CEST
DTSTART:20240331T010000
END:DAYLIGHT
BEGIN:STANDARD
TZOFFSETFROM:+0200
TZOFFSETTO:+0100
TZNAME:CET
DTSTART:20241027T010000
END:STANDARD
BEGIN:DAYLIGHT
TZOFFSETFROM:+0100
TZOFFSETTO:+0200
TZNAME:CEST
DTSTART:20250330T010000
END:DAYLIGHT
BEGIN:STANDARD
TZOFFSETFROM:+0200
TZOFFSETTO:+0100
TZNAME:CET
DTSTART:20251026T010000
END:STANDARD
BEGIN:DAYLIGHT
TZOFFSETFROM:+0100
TZOFFSETTO:+0200
TZNAME:CEST
DTSTART:20260329T010000
END:DAYLIGHT
BEGIN:STANDARD
TZOFFSETFROM:+0200
TZOFFSETTO:+0100
TZNAME:CET
DTSTART:20261025T010000
END:STANDARD
END:VTIMEZONE
BEGIN:VEVENT
DTSTART;TZID=Europe/Paris:20250606T103000
DTEND;TZID=Europe/Paris:20250718T183000
DTSTAMP:20260421T021915
CREATED:20250608T185546Z
LAST-MODIFIED:20250608T185546Z
UID:120146-1749205800-1752863400@actu.art
SUMMARY:Exposition : L'Art s'affiche
DESCRIPTION:PSP AR’T propose une exposition d’été haute en couleurs !
URL:https://actu.art/event/exposition-lart-saffiche/
LOCATION:Cour des Créateurs\, Place des Centuries\, Salon-de-Provence\, Bouches-du-Rhône\, 13300\, France
CATEGORIES:Expositions
ATTACH;FMTTYPE=image/jpeg:https://actu.art/wp-content/uploads/2025/06/Exposition_L_Art_s_affiche.jpg
GEO:43.6401275;5.0978521
X-APPLE-STRUCTURED-LOCATION;VALUE=URI;X-ADDRESS=Cour des Créateurs Place des Centuries Salon-de-Provence Bouches-du-Rhône 13300 France;X-APPLE-RADIUS=500;X-TITLE=Place des Centuries:geo:5.0978521,43.6401275
END:VEVENT
END:VCALENDAR