BEGIN:VCALENDAR
VERSION:2.0
PRODID:-//Actu.Art - ECPv6.15.13//NONSGML v1.0//EN
CALSCALE:GREGORIAN
METHOD:PUBLISH
X-WR-CALNAME:Actu.Art
X-ORIGINAL-URL:https://actu.art
X-WR-CALDESC:Évènements pour Actu.Art
BEGIN:VTIMEZONE
TZID:Europe/Paris
BEGIN:DAYLIGHT
TZOFFSETFROM:+0100
TZOFFSETTO:+0200
TZNAME:CEST
DTSTART:20240331T010000
END:DAYLIGHT
BEGIN:STANDARD
TZOFFSETFROM:+0200
TZOFFSETTO:+0100
TZNAME:CET
DTSTART:20241027T010000
END:STANDARD
BEGIN:DAYLIGHT
TZOFFSETFROM:+0100
TZOFFSETTO:+0200
TZNAME:CEST
DTSTART:20250330T010000
END:DAYLIGHT
BEGIN:STANDARD
TZOFFSETFROM:+0200
TZOFFSETTO:+0100
TZNAME:CET
DTSTART:20251026T010000
END:STANDARD
BEGIN:DAYLIGHT
TZOFFSETFROM:+0100
TZOFFSETTO:+0200
TZNAME:CEST
DTSTART:20260329T010000
END:DAYLIGHT
BEGIN:STANDARD
TZOFFSETFROM:+0200
TZOFFSETTO:+0100
TZNAME:CET
DTSTART:20261025T010000
END:STANDARD
END:VTIMEZONE
BEGIN:VEVENT
DTSTART;TZID=Europe/Paris:20250427T100000
DTEND;TZID=Europe/Paris:20250504T190000
DTSTAMP:20260425T050708
CREATED:20250316T210259Z
LAST-MODIFIED:20250316T210259Z
UID:111913-1745748000-1746385200@actu.art
SUMMARY:Exposition - L'Art Rochelle
DESCRIPTION:L’association L’Art Rochelle présente son exposition de peintures\, aquarelles et pastels à la salle de l’Oratoire.
URL:https://actu.art/event/exposition-lart-rochelle/
LOCATION:Salle de l’Oratoire\, Rue Albert 1er\, La Rochelle\, Charente-Maritime\, 17000\, France
CATEGORIES:Expositions
GEO:46.164677;-1.151581
X-APPLE-STRUCTURED-LOCATION;VALUE=URI;X-ADDRESS=Salle de l’Oratoire Rue Albert 1er La Rochelle Charente-Maritime 17000 France;X-APPLE-RADIUS=500;X-TITLE=Rue Albert 1er:geo:-1.151581,46.164677
END:VEVENT
END:VCALENDAR