BEGIN:VCALENDAR
VERSION:2.0
PRODID:-//Actu.Art - ECPv6.15.13//NONSGML v1.0//EN
CALSCALE:GREGORIAN
METHOD:PUBLISH
X-WR-CALNAME:Actu.Art
X-ORIGINAL-URL:https://actu.art
X-WR-CALDESC:Évènements pour Actu.Art
BEGIN:VTIMEZONE
TZID:Europe/Paris
BEGIN:DAYLIGHT
TZOFFSETFROM:+0100
TZOFFSETTO:+0200
TZNAME:CEST
DTSTART:20240331T010000
END:DAYLIGHT
BEGIN:STANDARD
TZOFFSETFROM:+0200
TZOFFSETTO:+0100
TZNAME:CET
DTSTART:20241027T010000
END:STANDARD
BEGIN:DAYLIGHT
TZOFFSETFROM:+0100
TZOFFSETTO:+0200
TZNAME:CEST
DTSTART:20250330T010000
END:DAYLIGHT
BEGIN:STANDARD
TZOFFSETFROM:+0200
TZOFFSETTO:+0100
TZNAME:CET
DTSTART:20251026T010000
END:STANDARD
BEGIN:DAYLIGHT
TZOFFSETFROM:+0100
TZOFFSETTO:+0200
TZNAME:CEST
DTSTART:20260329T010000
END:DAYLIGHT
BEGIN:STANDARD
TZOFFSETFROM:+0200
TZOFFSETTO:+0100
TZNAME:CET
DTSTART:20261025T010000
END:STANDARD
END:VTIMEZONE
BEGIN:VEVENT
DTSTART;TZID=Europe/Paris:20250902T090000
DTEND;TZID=Europe/Paris:20251211T170000
DTSTAMP:20260419T162501
CREATED:20250827T210104Z
LAST-MODIFIED:20250827T210104Z
UID:127441-1756803600-1765472400@actu.art
SUMMARY:Exposition l'art du pouring
DESCRIPTION:Exposition L’Art du Pouring par Nina. Magique et ludique\, cet art transforme la peinture acrylique en un jeu visuel fascinant et hypnotique.En accès libre aux horaires d’ouverture de l’Office de Tourisme de Bussang.
URL:https://actu.art/event/exposition-lart-du-pouring/
LOCATION:Office de Tourisme de Bussang\, 8 avenue de la Gare\, Bussang \, Vosges\, 88540\, France
CATEGORIES:Expositions
ATTACH;FMTTYPE=image/jpeg:https://actu.art/wp-content/uploads/2025/08/Exposition_l_art_du_pouring.jpg
GEO:47.8841397;6.8549987
X-APPLE-STRUCTURED-LOCATION;VALUE=URI;X-ADDRESS=Office de Tourisme de Bussang 8 avenue de la Gare Bussang  Vosges 88540 France;X-APPLE-RADIUS=500;X-TITLE=8 avenue de la Gare:geo:6.8549987,47.8841397
END:VEVENT
END:VCALENDAR