BEGIN:VCALENDAR
VERSION:2.0
PRODID:-//Actu.Art - ECPv6.15.13//NONSGML v1.0//EN
CALSCALE:GREGORIAN
METHOD:PUBLISH
X-WR-CALNAME:Actu.Art
X-ORIGINAL-URL:https://actu.art
X-WR-CALDESC:Évènements pour Actu.Art
BEGIN:VTIMEZONE
TZID:Europe/Paris
BEGIN:DAYLIGHT
TZOFFSETFROM:+0100
TZOFFSETTO:+0200
TZNAME:CEST
DTSTART:20250330T010000
END:DAYLIGHT
BEGIN:STANDARD
TZOFFSETFROM:+0200
TZOFFSETTO:+0100
TZNAME:CET
DTSTART:20251026T010000
END:STANDARD
BEGIN:DAYLIGHT
TZOFFSETFROM:+0100
TZOFFSETTO:+0200
TZNAME:CEST
DTSTART:20260329T010000
END:DAYLIGHT
BEGIN:STANDARD
TZOFFSETFROM:+0200
TZOFFSETTO:+0100
TZNAME:CET
DTSTART:20261025T010000
END:STANDARD
BEGIN:DAYLIGHT
TZOFFSETFROM:+0100
TZOFFSETTO:+0200
TZNAME:CEST
DTSTART:20270328T010000
END:DAYLIGHT
BEGIN:STANDARD
TZOFFSETFROM:+0200
TZOFFSETTO:+0100
TZNAME:CET
DTSTART:20271031T010000
END:STANDARD
END:VTIMEZONE
BEGIN:VEVENT
DTSTART;VALUE=DATE:20260301
DTEND;VALUE=DATE:20260615
DTSTAMP:20260423T220353
CREATED:20260305T160243Z
LAST-MODIFIED:20260305T160243Z
UID:139218-1772323200-1781481599@actu.art
SUMMARY:Exposition « Langues empruntées »
DESCRIPTION:« Langues empruntées » réunit des artistes français et internationaux dont le travail aborde des relations entre l’humain et l’oiseau à travers le langage\, la traduction et l’imitation. Composées de sculptures\, d’installations\, de peintures et de dessins\, de vidéos et de photographies\, les œuvres explorent les manières dont l’humain cherche à comprendre\, transcrire et reproduire les chants et les comportements des oiseaux. En résonance avec la biodiversité de l’île de Vassivière\, qui abrite plusieurs espèces protégées\, l’exposition s’intéresse aux formes de perception et d’expression non humaines\, à la recherche de formes de proximité entre les espèces.
URL:https://actu.art/event/exposition-langues-empruntees/
LOCATION:Centre International d’Art et du Paysage de Vassivière\, Ile de Vassivière\, Beaumont-du-Lac\, Haute-Vienne\, 87120\, France
CATEGORIES:Expositions
ATTACH;FMTTYPE=image/jpeg:https://actu.art/wp-content/uploads/2026/02/Exposition_Langues_empruntees_.jpg
GEO:45.800276;1.865125
X-APPLE-STRUCTURED-LOCATION;VALUE=URI;X-ADDRESS=Centre International d’Art et du Paysage de Vassivière Ile de Vassivière Beaumont-du-Lac Haute-Vienne 87120 France;X-APPLE-RADIUS=500;X-TITLE=Ile de Vassivière:geo:1.865125,45.800276
END:VEVENT
END:VCALENDAR