BEGIN:VCALENDAR
VERSION:2.0
PRODID:-//Actu.Art - ECPv6.15.13//NONSGML v1.0//EN
CALSCALE:GREGORIAN
METHOD:PUBLISH
X-WR-CALNAME:Actu.Art
X-ORIGINAL-URL:https://actu.art
X-WR-CALDESC:Évènements pour Actu.Art
BEGIN:VTIMEZONE
TZID:Europe/Paris
BEGIN:DAYLIGHT
TZOFFSETFROM:+0100
TZOFFSETTO:+0200
TZNAME:CEST
DTSTART:20240331T010000
END:DAYLIGHT
BEGIN:STANDARD
TZOFFSETFROM:+0200
TZOFFSETTO:+0100
TZNAME:CET
DTSTART:20241027T010000
END:STANDARD
BEGIN:DAYLIGHT
TZOFFSETFROM:+0100
TZOFFSETTO:+0200
TZNAME:CEST
DTSTART:20250330T010000
END:DAYLIGHT
BEGIN:STANDARD
TZOFFSETFROM:+0200
TZOFFSETTO:+0100
TZNAME:CET
DTSTART:20251026T010000
END:STANDARD
BEGIN:DAYLIGHT
TZOFFSETFROM:+0100
TZOFFSETTO:+0200
TZNAME:CEST
DTSTART:20260329T010000
END:DAYLIGHT
BEGIN:STANDARD
TZOFFSETFROM:+0200
TZOFFSETTO:+0100
TZNAME:CET
DTSTART:20261025T010000
END:STANDARD
END:VTIMEZONE
BEGIN:VEVENT
DTSTART;VALUE=DATE:20250704
DTEND;VALUE=DATE:20251020
DTSTAMP:20260423T221357
CREATED:20250303T164324Z
LAST-MODIFIED:20250303T164324Z
UID:108597-1751587200-1760918399@actu.art
SUMMARY:Exposition la Vaisselle des peintres\, de Monet à Picasso.
DESCRIPTION:Venez profiter d’une exposition au château de Bosmelet.
URL:https://actu.art/event/exposition-la-vaisselle-des-peintres-de-monet-a-picasso/
LOCATION:Château de Bosmelet\, Route du Bosmelet\, Val-de-Scie\, Seine-Maritime\, 76720\, France
CATEGORIES:Expositions
GEO:49.701193;1.123333
X-APPLE-STRUCTURED-LOCATION;VALUE=URI;X-ADDRESS=Château de Bosmelet Route du Bosmelet Val-de-Scie Seine-Maritime 76720 France;X-APPLE-RADIUS=500;X-TITLE=Route du Bosmelet:geo:1.123333,49.701193
END:VEVENT
END:VCALENDAR