BEGIN:VCALENDAR
VERSION:2.0
PRODID:-//Actu.Art - ECPv6.15.13//NONSGML v1.0//EN
CALSCALE:GREGORIAN
METHOD:PUBLISH
X-WR-CALNAME:Actu.Art
X-ORIGINAL-URL:https://actu.art
X-WR-CALDESC:Évènements pour Actu.Art
BEGIN:VTIMEZONE
TZID:Europe/Paris
BEGIN:DAYLIGHT
TZOFFSETFROM:+0100
TZOFFSETTO:+0200
TZNAME:CEST
DTSTART:20250330T010000
END:DAYLIGHT
BEGIN:STANDARD
TZOFFSETFROM:+0200
TZOFFSETTO:+0100
TZNAME:CET
DTSTART:20251026T010000
END:STANDARD
BEGIN:DAYLIGHT
TZOFFSETFROM:+0100
TZOFFSETTO:+0200
TZNAME:CEST
DTSTART:20260329T010000
END:DAYLIGHT
BEGIN:STANDARD
TZOFFSETFROM:+0200
TZOFFSETTO:+0100
TZNAME:CET
DTSTART:20261025T010000
END:STANDARD
BEGIN:DAYLIGHT
TZOFFSETFROM:+0100
TZOFFSETTO:+0200
TZNAME:CEST
DTSTART:20270328T010000
END:DAYLIGHT
BEGIN:STANDARD
TZOFFSETFROM:+0200
TZOFFSETTO:+0100
TZNAME:CET
DTSTART:20271031T010000
END:STANDARD
END:VTIMEZONE
BEGIN:VEVENT
DTSTART;VALUE=DATE:20260824
DTEND;VALUE=DATE:20260831
DTSTAMP:20260425T050734
CREATED:20260220T122223Z
LAST-MODIFIED:20260220T122223Z
UID:138602-1787529600-1788134399@actu.art
SUMMARY:Exposition – Joëlle Morisseau
DESCRIPTION:Exposition de peintures et poésie de papier
URL:https://actu.art/event/exposition-joelle-morisseau/
LOCATION:La Grève – Port de La Tremblade\, Seudr'Expo\, La Tremblade\, Charente-Maritime\, 17390\, France
CATEGORIES:Expositions
GEO:45.779601;-1.12471
X-APPLE-STRUCTURED-LOCATION;VALUE=URI;X-ADDRESS=La Grève – Port de La Tremblade Seudr'Expo La Tremblade Charente-Maritime 17390 France;X-APPLE-RADIUS=500;X-TITLE=Seudr'Expo:geo:-1.12471,45.779601
END:VEVENT
END:VCALENDAR