BEGIN:VCALENDAR
VERSION:2.0
PRODID:-//Actu.Art - ECPv6.15.13//NONSGML v1.0//EN
CALSCALE:GREGORIAN
METHOD:PUBLISH
X-WR-CALNAME:Actu.Art
X-ORIGINAL-URL:https://actu.art
X-WR-CALDESC:Évènements pour Actu.Art
BEGIN:VTIMEZONE
TZID:Europe/Paris
BEGIN:DAYLIGHT
TZOFFSETFROM:+0100
TZOFFSETTO:+0200
TZNAME:CEST
DTSTART:20250330T010000
END:DAYLIGHT
BEGIN:STANDARD
TZOFFSETFROM:+0200
TZOFFSETTO:+0100
TZNAME:CET
DTSTART:20251026T010000
END:STANDARD
BEGIN:DAYLIGHT
TZOFFSETFROM:+0100
TZOFFSETTO:+0200
TZNAME:CEST
DTSTART:20260329T010000
END:DAYLIGHT
BEGIN:STANDARD
TZOFFSETFROM:+0200
TZOFFSETTO:+0100
TZNAME:CET
DTSTART:20261025T010000
END:STANDARD
BEGIN:DAYLIGHT
TZOFFSETFROM:+0100
TZOFFSETTO:+0200
TZNAME:CEST
DTSTART:20270328T010000
END:DAYLIGHT
BEGIN:STANDARD
TZOFFSETFROM:+0200
TZOFFSETTO:+0100
TZNAME:CET
DTSTART:20271031T010000
END:STANDARD
END:VTIMEZONE
BEGIN:VEVENT
DTSTART;TZID=Europe/Paris:20260228T150000
DTEND;TZID=Europe/Paris:20260328T180000
DTSTAMP:20260424T024933
CREATED:20260303T175318Z
LAST-MODIFIED:20260303T175318Z
UID:139511-1772290800-1774720800@actu.art
SUMMARY:Exposition : Immersion
DESCRIPTION:L’artiste José Dubois\, originaire de Cérilly\, présente sa nouvelle exposition d’œuvres abstraites et colorées.\nCette exposition fait la part belle au mouvement et à la luminosité.
URL:https://actu.art/event/exposition-immersion/
LOCATION:Galerie Écritures\, Rue Pierre Petit 1\, Montluçon\, Allier\, 03100\, France
CATEGORIES:Expositions Galeries
GEO:46.3412458;2.6036222
X-APPLE-STRUCTURED-LOCATION;VALUE=URI;X-ADDRESS=Galerie Écritures Rue Pierre Petit 1 Montluçon Allier 03100 France;X-APPLE-RADIUS=500;X-TITLE=Rue Pierre Petit 1:geo:2.6036222,46.3412458
END:VEVENT
END:VCALENDAR