BEGIN:VCALENDAR
VERSION:2.0
PRODID:-//Actu.Art - ECPv6.15.13//NONSGML v1.0//EN
CALSCALE:GREGORIAN
METHOD:PUBLISH
X-WR-CALNAME:Actu.Art
X-ORIGINAL-URL:https://actu.art
X-WR-CALDESC:Évènements pour Actu.Art
BEGIN:VTIMEZONE
TZID:Europe/Paris
BEGIN:DAYLIGHT
TZOFFSETFROM:+0100
TZOFFSETTO:+0200
TZNAME:CEST
DTSTART:20250330T010000
END:DAYLIGHT
BEGIN:STANDARD
TZOFFSETFROM:+0200
TZOFFSETTO:+0100
TZNAME:CET
DTSTART:20251026T010000
END:STANDARD
BEGIN:DAYLIGHT
TZOFFSETFROM:+0100
TZOFFSETTO:+0200
TZNAME:CEST
DTSTART:20260329T010000
END:DAYLIGHT
BEGIN:STANDARD
TZOFFSETFROM:+0200
TZOFFSETTO:+0100
TZNAME:CET
DTSTART:20261025T010000
END:STANDARD
BEGIN:DAYLIGHT
TZOFFSETFROM:+0100
TZOFFSETTO:+0200
TZNAME:CEST
DTSTART:20270328T010000
END:DAYLIGHT
BEGIN:STANDARD
TZOFFSETFROM:+0200
TZOFFSETTO:+0100
TZNAME:CET
DTSTART:20271031T010000
END:STANDARD
END:VTIMEZONE
BEGIN:VEVENT
DTSTART;VALUE=DATE:20260419
DTEND;VALUE=DATE:20260518
DTSTAMP:20260420T033921
CREATED:20260416T062443Z
LAST-MODIFIED:20260416T062443Z
UID:143560-1776556800-1779062399@actu.art
SUMMARY:Exposition : Ilôt Singulier du Collectif Factory 87
DESCRIPTION:Cette exposition est l’occasion de découvrir l’identité pluridisciplinaire de Factory 87. À travers une sélection d’œuvres originales\, les artistes du collectif proposent un dialogue entre leurs univers singuliers\, tout en révélant la cohérence et la richesse de leur démarche commune.\nCette exposition s’inscrit dans la volonté du collectif de partager son travail avec le public et de tisser des liens avec des lieux culturels emblématiques comme le Vieux Château à Vicq-sur-Breuilh . Fondée en 2013\, Factory 87 est une association d’artistes plasticiens installé dans une ancienne friche industrielle à Saint-Léonard-de-Noblat. Autonome et autogérée\, portée par des artistes aux pratiques variées : peinture\, sculpture\, céramique\, photographie\, sérigraphie et bien d’autres. Ce collectif incarne une démarche artistique libre\, où chaque membre conserve son indépendance.
URL:https://actu.art/event/exposition-ilot-singulier-du-collectif-factory-87/
LOCATION:Le Vieux Château\, Chemin du Vieux Château 1\, Vicq-sur-Breuilh\, Haute-Vienne\, 87260\, France
CATEGORIES:Expositions
ATTACH;FMTTYPE=image/jpeg:https://actu.art/wp-content/uploads/2026/04/Exposition_Ilot_Singulier_du_Collectif_Factory_87.jpg
GEO:45.647284;1.38593
X-APPLE-STRUCTURED-LOCATION;VALUE=URI;X-ADDRESS=Le Vieux Château Chemin du Vieux Château 1 Vicq-sur-Breuilh Haute-Vienne 87260 France;X-APPLE-RADIUS=500;X-TITLE=Chemin du Vieux Château 1:geo:1.38593,45.647284
END:VEVENT
END:VCALENDAR