BEGIN:VCALENDAR
VERSION:2.0
PRODID:-//Actu.Art - ECPv6.15.13//NONSGML v1.0//EN
CALSCALE:GREGORIAN
METHOD:PUBLISH
X-WR-CALNAME:Actu.Art
X-ORIGINAL-URL:https://actu.art
X-WR-CALDESC:Évènements pour Actu.Art
BEGIN:VTIMEZONE
TZID:Europe/Paris
BEGIN:DAYLIGHT
TZOFFSETFROM:+0100
TZOFFSETTO:+0200
TZNAME:CEST
DTSTART:20230326T010000
END:DAYLIGHT
BEGIN:STANDARD
TZOFFSETFROM:+0200
TZOFFSETTO:+0100
TZNAME:CET
DTSTART:20231029T010000
END:STANDARD
BEGIN:DAYLIGHT
TZOFFSETFROM:+0100
TZOFFSETTO:+0200
TZNAME:CEST
DTSTART:20240331T010000
END:DAYLIGHT
BEGIN:STANDARD
TZOFFSETFROM:+0200
TZOFFSETTO:+0100
TZNAME:CET
DTSTART:20241027T010000
END:STANDARD
BEGIN:DAYLIGHT
TZOFFSETFROM:+0100
TZOFFSETTO:+0200
TZNAME:CEST
DTSTART:20250330T010000
END:DAYLIGHT
BEGIN:STANDARD
TZOFFSETFROM:+0200
TZOFFSETTO:+0100
TZNAME:CET
DTSTART:20251026T010000
END:STANDARD
END:VTIMEZONE
BEGIN:VEVENT
DTSTART;VALUE=DATE:20241110
DTEND;VALUE=DATE:20241125
DTSTAMP:20260421T190915
CREATED:20241127T163020Z
LAST-MODIFIED:20241127T163020Z
UID:104300-1731196800-1732492799@actu.art
SUMMARY:Exposition Hypochlorite
DESCRIPTION:Le service de la Culture de la Ville d’Arles a programmé l’artiste plasticien Samuel Spone pour une résidence de création au Palais de l’Archevêché.
URL:https://actu.art/event/exposition-hypochlorite/
LOCATION:Palais de l’Archevêché\, Place De la République\, Arles\, Bouches-du-Rhône\, 13200\, France
CATEGORIES:Expositions
ATTACH;FMTTYPE=image/jpeg:https://actu.art/wp-content/uploads/2024/11/Exposition_Hypochlorite.jpg
GEO:43.6765106;4.6277729
X-APPLE-STRUCTURED-LOCATION;VALUE=URI;X-ADDRESS=Palais de l’Archevêché Place De la République Arles Bouches-du-Rhône 13200 France;X-APPLE-RADIUS=500;X-TITLE=Place De la République:geo:4.6277729,43.6765106
END:VEVENT
END:VCALENDAR