BEGIN:VCALENDAR
VERSION:2.0
PRODID:-//Actu.Art - ECPv6.15.13//NONSGML v1.0//EN
CALSCALE:GREGORIAN
METHOD:PUBLISH
X-WR-CALNAME:Actu.Art
X-ORIGINAL-URL:https://actu.art
X-WR-CALDESC:Évènements pour Actu.Art
BEGIN:VTIMEZONE
TZID:Europe/Paris
BEGIN:DAYLIGHT
TZOFFSETFROM:+0100
TZOFFSETTO:+0200
TZNAME:CEST
DTSTART:20240331T010000
END:DAYLIGHT
BEGIN:STANDARD
TZOFFSETFROM:+0200
TZOFFSETTO:+0100
TZNAME:CET
DTSTART:20241027T010000
END:STANDARD
BEGIN:DAYLIGHT
TZOFFSETFROM:+0100
TZOFFSETTO:+0200
TZNAME:CEST
DTSTART:20250330T010000
END:DAYLIGHT
BEGIN:STANDARD
TZOFFSETFROM:+0200
TZOFFSETTO:+0100
TZNAME:CET
DTSTART:20251026T010000
END:STANDARD
BEGIN:DAYLIGHT
TZOFFSETFROM:+0100
TZOFFSETTO:+0200
TZNAME:CEST
DTSTART:20260329T010000
END:DAYLIGHT
BEGIN:STANDARD
TZOFFSETFROM:+0200
TZOFFSETTO:+0100
TZNAME:CET
DTSTART:20261025T010000
END:STANDARD
END:VTIMEZONE
BEGIN:VEVENT
DTSTART;TZID=Europe/Paris:20250505T073000
DTEND;TZID=Europe/Paris:20250531T193000
DTSTAMP:20260423T072646
CREATED:20250515T214455Z
LAST-MODIFIED:20250515T214455Z
UID:118046-1746430200-1748719800@actu.art
SUMMARY:Exposition : "Hommage à Pierre Vellutini" - Eglise Saint Roch - Aiacciu
DESCRIPTION:Pierre Vellutini est né à Paris en 1935.\nDès l’âge de 4 ans\, il a commencé à dessiner\, révélant un talent précoce pour les arts visuels.\nÀ 8 ans\, il fait ses premiers pas dans la peinture\, réalisant des œuvres pour sa famille et ses amis\, qui ont été les premiers témoins de son extraordinaire créativité.\nArtiste autodidacte\, amoureux des couleurs\, Pierre a cultivé son art avec passion et détermination.\nIl a trouvé du plaisir à participer à de nombreuses expositions collectives\, que ce soit dans le cadre d’art sacré à la Chapelle Sainte Lucie et l’église Saint Roch\, ou dans des lieux plus inattendus comme l’Aéroport et l’Hippodrome d’Ajaccio.\nMalgré un état de santé déclinant\, il a continué à partager son travail avec le public\, témoignant de son dévouement indéfectible à l’art.\nDécédé à Ajaccio à 89 ans le 14 avril 2025\, Pierre est enterré à Petreto-Bicchisano\, d’où était originaire une partie de sa famille.
URL:https://actu.art/event/exposition-hommage-a-pierre-vellutini-eglise-saint-roch-aiacciu/
LOCATION:Eglise Saint-Roch\, 29 Cours Napoléon\, Ajaccio\, 200000
CATEGORIES:Expositions
ATTACH;FMTTYPE=image/jpeg:https://actu.art/wp-content/uploads/2025/05/Exposition_Hommage_a_Pierre_Vellutini_Eglise_Saint_Roch_Aiacciu.jpg
END:VEVENT
END:VCALENDAR