BEGIN:VCALENDAR
VERSION:2.0
PRODID:-//Actu.Art - ECPv6.15.13//NONSGML v1.0//EN
CALSCALE:GREGORIAN
METHOD:PUBLISH
X-WR-CALNAME:Actu.Art
X-ORIGINAL-URL:https://actu.art
X-WR-CALDESC:Évènements pour Actu.Art
BEGIN:VTIMEZONE
TZID:Europe/Paris
BEGIN:DAYLIGHT
TZOFFSETFROM:+0100
TZOFFSETTO:+0200
TZNAME:CEST
DTSTART:20240331T010000
END:DAYLIGHT
BEGIN:STANDARD
TZOFFSETFROM:+0200
TZOFFSETTO:+0100
TZNAME:CET
DTSTART:20241027T010000
END:STANDARD
BEGIN:DAYLIGHT
TZOFFSETFROM:+0100
TZOFFSETTO:+0200
TZNAME:CEST
DTSTART:20250330T010000
END:DAYLIGHT
BEGIN:STANDARD
TZOFFSETFROM:+0200
TZOFFSETTO:+0100
TZNAME:CET
DTSTART:20251026T010000
END:STANDARD
BEGIN:DAYLIGHT
TZOFFSETFROM:+0100
TZOFFSETTO:+0200
TZNAME:CEST
DTSTART:20260329T010000
END:DAYLIGHT
BEGIN:STANDARD
TZOFFSETFROM:+0200
TZOFFSETTO:+0100
TZNAME:CET
DTSTART:20261025T010000
END:STANDARD
END:VTIMEZONE
BEGIN:VEVENT
DTSTART;VALUE=DATE:20250417
DTEND;VALUE=DATE:20250601
DTSTAMP:20260426T001716
CREATED:20250416T095222Z
LAST-MODIFIED:20250416T095222Z
UID:114495-1744848000-1748735999@actu.art
SUMMARY:Exposition « Graines de vie  » à la Majestic Gallery
DESCRIPTION:Exposition de Photographies :\nEdwige Lesiourd et Philippe Drix\nde Peintures :  Gyslaine Pachet-Micheneau\, Naïcku\, Nathalie Travaillard et Yves de l’Avouillette\,\net de Sculptures : Anne Procureur\, Alain-Marie Parmentier\, Jasper Lyon\nOuverture du mercredi au samedi de 15h à 18h. Entrée libre.\nOuverture exceptionnelle le dimanche 27 avril 2025 – 15h/18h
URL:https://actu.art/event/exposition-graines-de-vie-a-la-majestic-gallery/
LOCATION:Majestic Gallery\, 29 Rue du Pont\, Montsûrs\, Mayenne\, 53150\, France
CATEGORIES:Expositions Galeries
ATTACH;FMTTYPE=image/jpeg:https://actu.art/wp-content/uploads/2025/04/Exposition_Graines_de_vie_a_la_Majestic_Gallery.jpg
GEO:48.1355651;-0.5529723
X-APPLE-STRUCTURED-LOCATION;VALUE=URI;X-ADDRESS=Majestic Gallery 29 Rue du Pont Montsûrs Mayenne 53150 France;X-APPLE-RADIUS=500;X-TITLE=29 Rue du Pont:geo:-0.5529723,48.1355651
END:VEVENT
END:VCALENDAR