BEGIN:VCALENDAR
VERSION:2.0
PRODID:-//Actu.Art - ECPv6.15.13//NONSGML v1.0//EN
CALSCALE:GREGORIAN
METHOD:PUBLISH
X-WR-CALNAME:Actu.Art
X-ORIGINAL-URL:https://actu.art
X-WR-CALDESC:Évènements pour Actu.Art
BEGIN:VTIMEZONE
TZID:Europe/Paris
BEGIN:DAYLIGHT
TZOFFSETFROM:+0100
TZOFFSETTO:+0200
TZNAME:CEST
DTSTART:20230326T010000
END:DAYLIGHT
BEGIN:STANDARD
TZOFFSETFROM:+0200
TZOFFSETTO:+0100
TZNAME:CET
DTSTART:20231029T010000
END:STANDARD
BEGIN:DAYLIGHT
TZOFFSETFROM:+0100
TZOFFSETTO:+0200
TZNAME:CEST
DTSTART:20240331T010000
END:DAYLIGHT
BEGIN:STANDARD
TZOFFSETFROM:+0200
TZOFFSETTO:+0100
TZNAME:CET
DTSTART:20241027T010000
END:STANDARD
BEGIN:DAYLIGHT
TZOFFSETFROM:+0100
TZOFFSETTO:+0200
TZNAME:CEST
DTSTART:20250330T010000
END:DAYLIGHT
BEGIN:STANDARD
TZOFFSETFROM:+0200
TZOFFSETTO:+0100
TZNAME:CET
DTSTART:20251026T010000
END:STANDARD
END:VTIMEZONE
BEGIN:VEVENT
DTSTART;TZID=Europe/Paris:20241014T110000
DTEND;TZID=Europe/Paris:20241026T000000
DTSTAMP:20260420T170129
CREATED:20241010T094527Z
LAST-MODIFIED:20241010T094527Z
UID:100295-1728903600-1729900800@actu.art
SUMMARY:Exposition Gini Christine
DESCRIPTION:Exposition ventes huiles sur toile art contemporain et sculptures.
URL:https://actu.art/event/exposition-gini-christine/
LOCATION:Galerie Azimut\, 1 Rue Matheron\, Aix-en-Provence\, Bouches-du-Rhône\, 13100\, France
CATEGORIES:Expositions
ATTACH;FMTTYPE=image/jpeg:https://actu.art/wp-content/uploads/2024/10/Exposition_Gini_Christine.jpg
GEO:43.5300371;5.4498987
X-APPLE-STRUCTURED-LOCATION;VALUE=URI;X-ADDRESS=Galerie Azimut 1 Rue Matheron Aix-en-Provence Bouches-du-Rhône 13100 France;X-APPLE-RADIUS=500;X-TITLE=1 Rue Matheron:geo:5.4498987,43.5300371
END:VEVENT
END:VCALENDAR