BEGIN:VCALENDAR
VERSION:2.0
PRODID:-//Actu.Art - ECPv6.15.13//NONSGML v1.0//EN
CALSCALE:GREGORIAN
METHOD:PUBLISH
X-WR-CALNAME:Actu.Art
X-ORIGINAL-URL:https://actu.art
X-WR-CALDESC:Évènements pour Actu.Art
BEGIN:VTIMEZONE
TZID:Europe/Paris
BEGIN:DAYLIGHT
TZOFFSETFROM:+0100
TZOFFSETTO:+0200
TZNAME:CEST
DTSTART:20230326T010000
END:DAYLIGHT
BEGIN:STANDARD
TZOFFSETFROM:+0200
TZOFFSETTO:+0100
TZNAME:CET
DTSTART:20231029T010000
END:STANDARD
BEGIN:DAYLIGHT
TZOFFSETFROM:+0100
TZOFFSETTO:+0200
TZNAME:CEST
DTSTART:20240331T010000
END:DAYLIGHT
BEGIN:STANDARD
TZOFFSETFROM:+0200
TZOFFSETTO:+0100
TZNAME:CET
DTSTART:20241027T010000
END:STANDARD
BEGIN:DAYLIGHT
TZOFFSETFROM:+0100
TZOFFSETTO:+0200
TZNAME:CEST
DTSTART:20250330T010000
END:DAYLIGHT
BEGIN:STANDARD
TZOFFSETFROM:+0200
TZOFFSETTO:+0100
TZNAME:CET
DTSTART:20251026T010000
END:STANDARD
BEGIN:DAYLIGHT
TZOFFSETFROM:+0100
TZOFFSETTO:+0200
TZNAME:CEST
DTSTART:20260329T010000
END:DAYLIGHT
BEGIN:STANDARD
TZOFFSETFROM:+0200
TZOFFSETTO:+0100
TZNAME:CET
DTSTART:20261025T010000
END:STANDARD
END:VTIMEZONE
BEGIN:VEVENT
DTSTART;VALUE=DATE:20240521
DTEND;VALUE=DATE:20250106
DTSTAMP:20260425T184336
CREATED:20240313T210500Z
LAST-MODIFIED:20240315T122815Z
UID:79691-1716249600-1736121540@actu.art
SUMMARY:Exposition : Geneviève Saya Brillet
DESCRIPTION:Venez visiter une exposition des oeuvres de Geneviève Saya Brillet.
URL:https://actu.art/event/exposition-genevieve-saya-brillet/
LOCATION:Musée du Papier\, 134 rue de Bordeaux\, Angoulême\, Charente\, 16000\, France
CATEGORIES:Expositions
GEO:45.6534326;0.1497971
X-APPLE-STRUCTURED-LOCATION;VALUE=URI;X-ADDRESS=Musée du Papier 134 rue de Bordeaux Angoulême Charente 16000 France;X-APPLE-RADIUS=500;X-TITLE=134 rue de Bordeaux:geo:0.1497971,45.6534326
END:VEVENT
END:VCALENDAR