BEGIN:VCALENDAR
VERSION:2.0
PRODID:-//Actu.Art - ECPv6.15.13//NONSGML v1.0//EN
CALSCALE:GREGORIAN
METHOD:PUBLISH
X-WR-CALNAME:Actu.Art
X-ORIGINAL-URL:https://actu.art
X-WR-CALDESC:Évènements pour Actu.Art
BEGIN:VTIMEZONE
TZID:Europe/Paris
BEGIN:DAYLIGHT
TZOFFSETFROM:+0100
TZOFFSETTO:+0200
TZNAME:CEST
DTSTART:20240331T010000
END:DAYLIGHT
BEGIN:STANDARD
TZOFFSETFROM:+0200
TZOFFSETTO:+0100
TZNAME:CET
DTSTART:20241027T010000
END:STANDARD
BEGIN:DAYLIGHT
TZOFFSETFROM:+0100
TZOFFSETTO:+0200
TZNAME:CEST
DTSTART:20250330T010000
END:DAYLIGHT
BEGIN:STANDARD
TZOFFSETFROM:+0200
TZOFFSETTO:+0100
TZNAME:CET
DTSTART:20251026T010000
END:STANDARD
BEGIN:DAYLIGHT
TZOFFSETFROM:+0100
TZOFFSETTO:+0200
TZNAME:CEST
DTSTART:20260329T010000
END:DAYLIGHT
BEGIN:STANDARD
TZOFFSETFROM:+0200
TZOFFSETTO:+0100
TZNAME:CET
DTSTART:20261025T010000
END:STANDARD
END:VTIMEZONE
BEGIN:VEVENT
DTSTART;TZID=Europe/Paris:20250701T140000
DTEND;TZID=Europe/Paris:20250727T000000
DTSTAMP:20260420T121218
CREATED:20250703T211213Z
LAST-MODIFIED:20250703T211213Z
UID:122539-1751378400-1753574400@actu.art
SUMMARY:Exposition Galerie des Charitains
DESCRIPTION:Tout au long de la saison\, la Galerie des Charitains vous invite à une succession d’expositions captivantes.\nArtistes ; AkiArt Victoire( Peintures)\, David English\, Annie Piroche (Photographes)\, et Corinne Gerard (peintre).
URL:https://actu.art/event/exposition-galerie-des-charitains/
LOCATION:Galerie des Charitains\, Ébreuil\, Allier\, 03450\, France
CATEGORIES:Expositions Galeries
GEO:46.115643;3.087075
END:VEVENT
END:VCALENDAR