BEGIN:VCALENDAR
VERSION:2.0
PRODID:-//Actu.Art - ECPv6.15.13//NONSGML v1.0//EN
CALSCALE:GREGORIAN
METHOD:PUBLISH
X-WR-CALNAME:Actu.Art
X-ORIGINAL-URL:https://actu.art
X-WR-CALDESC:Évènements pour Actu.Art
BEGIN:VTIMEZONE
TZID:Europe/Paris
BEGIN:DAYLIGHT
TZOFFSETFROM:+0100
TZOFFSETTO:+0200
TZNAME:CEST
DTSTART:20240331T010000
END:DAYLIGHT
BEGIN:STANDARD
TZOFFSETFROM:+0200
TZOFFSETTO:+0100
TZNAME:CET
DTSTART:20241027T010000
END:STANDARD
BEGIN:DAYLIGHT
TZOFFSETFROM:+0100
TZOFFSETTO:+0200
TZNAME:CEST
DTSTART:20250330T010000
END:DAYLIGHT
BEGIN:STANDARD
TZOFFSETFROM:+0200
TZOFFSETTO:+0100
TZNAME:CET
DTSTART:20251026T010000
END:STANDARD
BEGIN:DAYLIGHT
TZOFFSETFROM:+0100
TZOFFSETTO:+0200
TZNAME:CEST
DTSTART:20260329T010000
END:DAYLIGHT
BEGIN:STANDARD
TZOFFSETFROM:+0200
TZOFFSETTO:+0100
TZNAME:CET
DTSTART:20261025T010000
END:STANDARD
END:VTIMEZONE
BEGIN:VEVENT
DTSTART;TZID=Europe/Paris:20250601T150000
DTEND;TZID=Europe/Paris:20250628T180000
DTSTAMP:20260420T155950
CREATED:20250616T212124Z
LAST-MODIFIED:20250616T212124Z
UID:121290-1748790000-1751133600@actu.art
SUMMARY:Exposition galerie Azimut
DESCRIPTION:Peintures abstraites et figuratives.
URL:https://actu.art/event/exposition-galerie-azimut/
LOCATION:Galerie Azimut\, 1 Rue Matheron\, Aix-en-Provence\, Bouches-du-Rhône\, 13100\, France
CATEGORIES:Expositions Galeries
ATTACH;FMTTYPE=image/jpeg:https://actu.art/wp-content/uploads/2025/06/Exposition_galerie_Azimut.jpg
GEO:43.5300371;5.4498987
X-APPLE-STRUCTURED-LOCATION;VALUE=URI;X-ADDRESS=Galerie Azimut 1 Rue Matheron Aix-en-Provence Bouches-du-Rhône 13100 France;X-APPLE-RADIUS=500;X-TITLE=1 Rue Matheron:geo:5.4498987,43.5300371
END:VEVENT
END:VCALENDAR