BEGIN:VCALENDAR
VERSION:2.0
PRODID:-//Actu.Art - ECPv6.15.13//NONSGML v1.0//EN
CALSCALE:GREGORIAN
METHOD:PUBLISH
X-WR-CALNAME:Actu.Art
X-ORIGINAL-URL:https://actu.art
X-WR-CALDESC:Évènements pour Actu.Art
BEGIN:VTIMEZONE
TZID:Europe/Paris
BEGIN:DAYLIGHT
TZOFFSETFROM:+0100
TZOFFSETTO:+0200
TZNAME:CEST
DTSTART:20240331T010000
END:DAYLIGHT
BEGIN:STANDARD
TZOFFSETFROM:+0200
TZOFFSETTO:+0100
TZNAME:CET
DTSTART:20241027T010000
END:STANDARD
BEGIN:DAYLIGHT
TZOFFSETFROM:+0100
TZOFFSETTO:+0200
TZNAME:CEST
DTSTART:20250330T010000
END:DAYLIGHT
BEGIN:STANDARD
TZOFFSETFROM:+0200
TZOFFSETTO:+0100
TZNAME:CET
DTSTART:20251026T010000
END:STANDARD
BEGIN:DAYLIGHT
TZOFFSETFROM:+0100
TZOFFSETTO:+0200
TZNAME:CEST
DTSTART:20260329T010000
END:DAYLIGHT
BEGIN:STANDARD
TZOFFSETFROM:+0200
TZOFFSETTO:+0100
TZNAME:CET
DTSTART:20261025T010000
END:STANDARD
BEGIN:DAYLIGHT
TZOFFSETFROM:+0100
TZOFFSETTO:+0200
TZNAME:CEST
DTSTART:20270328T010000
END:DAYLIGHT
BEGIN:STANDARD
TZOFFSETFROM:+0200
TZOFFSETTO:+0100
TZNAME:CET
DTSTART:20271031T010000
END:STANDARD
END:VTIMEZONE
BEGIN:VEVENT
DTSTART;TZID=Europe/Paris:20250614T110000
DTEND;TZID=Europe/Paris:20260104T180000
DTSTAMP:20260421T144933
CREATED:20251120T182459Z
LAST-MODIFIED:20251120T182459Z
UID:133809-1749898800-1767549600@actu.art
SUMMARY:Exposition « Forever Young »  au MAC VAL
DESCRIPTION:Le MAC VAL célèbre 20 ans d’ouverture au public\, d’expositions\, d’innovation et d’avenir. En résonnance avec l’exposition des œuvres de la collection spéciale anniversaire « Le genre idéal » inaugurée en mars 2025\, ouvre une exposition temporaire symbolique et programmatique\, orientée sur la découverte : « Forever Young » ou 20 et 1 artistes. \nAu cœur du Val-de-Marne\, le MAC VAL\, musée référence pour l’art contemporain en France des années 50 à aujourd’hui\, célèbre cette année son 20e anniversaire. Depuis sa création en 2005\, l’institution s’est engagée à offrir des programmations innovantes et de qualité à ses publics toujours renouvelés\, tout en s’adaptant aux évolutions du monde\, en veillant aux meilleures collaborations avec ses partenaires artistiques\, culturels\, institutionnels ou médiatiques. « Forever Young » présente les œuvres de 20 jeunes artistes (nées et nés pour la plupart entre 1990 et 2000)\, qui prennent à bras le corps les thèmes de notre temps\, traduits dans une grande pluralité d’expressions formelles : photo\, sculpture\, installation\, dessin\, vidéo\, peinture. \nAu fil des deux dernières décennies\, le MAC VAL a su se démarquer par sa capacité à imaginer et à accompagner les mouvements du monde. Dans cette nouvelle exposition\, les artistes font référence à leurs histoires certes toutes très singulières mais qui ont pour point commun la découverte au MAC VAL\, d’un artiste\, d’une œuvre\, d’une médiation\, d’un élément architectural\, d’un accueil\, d’un lieu de vie. Elles et ils sont toutes et tous des prophètes en leur pays\, sur leurs terres de découvertes et parfois même de révélations\, relais vivants et généreux d’un art en mutation permanente. Un regard particulier sera porté sur l’œuvre de Mehryl Ferri Levisse\, artiste qui a développé toutes ses dimensions et sensibilités lors d’expositions clés précédentes au MAC VAL\, décédé en 2023\, sans lequel\, certainement\, l’équilibre de cette exposition n’aurait pas été juste.
URL:https://actu.art/event/exposition-forever-young-au-mac-val/
LOCATION:Musée d’Art Contemporain du Val-de-Marne\, Place de la Libération\, VITRY-SUR-SEINE\, Val-de-Marne\, 94400
CATEGORIES:Expositions
ATTACH;FMTTYPE=image/jpeg:https://actu.art/wp-content/uploads/2025/11/Exposition_Forever_Young_au_MAC_VAL.jpg
GEO:48.7920694;2.3871374
X-APPLE-STRUCTURED-LOCATION;VALUE=URI;X-ADDRESS=Musée d’Art Contemporain du Val-de-Marne Place de la Libération VITRY-SUR-SEINE Val-de-Marne 94400;X-APPLE-RADIUS=500;X-TITLE=Place de la Libération:geo:2.3871374,48.7920694
END:VEVENT
END:VCALENDAR