BEGIN:VCALENDAR
VERSION:2.0
PRODID:-//Actu.Art - ECPv6.15.13//NONSGML v1.0//EN
CALSCALE:GREGORIAN
METHOD:PUBLISH
X-WR-CALNAME:Actu.Art
X-ORIGINAL-URL:https://actu.art
X-WR-CALDESC:Évènements pour Actu.Art
BEGIN:VTIMEZONE
TZID:Europe/Paris
BEGIN:DAYLIGHT
TZOFFSETFROM:+0100
TZOFFSETTO:+0200
TZNAME:CEST
DTSTART:20250330T010000
END:DAYLIGHT
BEGIN:STANDARD
TZOFFSETFROM:+0200
TZOFFSETTO:+0100
TZNAME:CET
DTSTART:20251026T010000
END:STANDARD
BEGIN:DAYLIGHT
TZOFFSETFROM:+0100
TZOFFSETTO:+0200
TZNAME:CEST
DTSTART:20260329T010000
END:DAYLIGHT
BEGIN:STANDARD
TZOFFSETFROM:+0200
TZOFFSETTO:+0100
TZNAME:CET
DTSTART:20261025T010000
END:STANDARD
BEGIN:DAYLIGHT
TZOFFSETFROM:+0100
TZOFFSETTO:+0200
TZNAME:CEST
DTSTART:20270328T010000
END:DAYLIGHT
BEGIN:STANDARD
TZOFFSETFROM:+0200
TZOFFSETTO:+0100
TZNAME:CET
DTSTART:20271031T010000
END:STANDARD
END:VTIMEZONE
BEGIN:VEVENT
DTSTART;TZID=Europe/Paris:20260426T140000
DTEND;TZID=Europe/Paris:20260920T180000
DTSTAMP:20260421T121824
CREATED:20260414T184208Z
LAST-MODIFIED:20260414T184208Z
UID:143178-1777212000-1789927200@actu.art
SUMMARY:Exposition Filafilon de Lucie Douriaud
DESCRIPTION:Exposition FILAFILON de Lucie Douriaud
URL:https://actu.art/event/exposition-filafilon-de-lucie-douriaud/
LOCATION:Le Creux de l’Enfer & Site de l’Usine de May\, Vallée des Usines\, 85 Avenue Joseph Claussat\, Thiers\, Puy-de-Dôme\, 63300\, France
CATEGORIES:Expositions
ATTACH;FMTTYPE=image/jpeg:https://actu.art/wp-content/uploads/2026/04/Exposition_Filafilon_de_Lucie_Douriaud.jpg
GEO:45.8502233;3.5491277
X-APPLE-STRUCTURED-LOCATION;VALUE=URI;X-ADDRESS=Le Creux de l’Enfer & Site de l’Usine de May Vallée des Usines 85 Avenue Joseph Claussat Thiers Puy-de-Dôme 63300 France;X-APPLE-RADIUS=500;X-TITLE=Vallée des Usines\, 85 Avenue Joseph Claussat:geo:3.5491277,45.8502233
END:VEVENT
END:VCALENDAR